BEGIN:VCALENDAR
VERSION:2.0
PRODID:-//CRI - ECPv6.15.17.1//NONSGML v1.0//EN
CALSCALE:GREGORIAN
METHOD:PUBLISH
X-ORIGINAL-URL:https://cri1149.fr
X-WR-CALDESC:Évènements pour CRI
REFRESH-INTERVAL;VALUE=DURATION:PT1H
X-Robots-Tag:noindex
X-PUBLISHED-TTL:PT1H
BEGIN:VTIMEZONE
TZID:Europe/Paris
BEGIN:DAYLIGHT
TZOFFSETFROM:+0100
TZOFFSETTO:+0200
TZNAME:CEST
DTSTART:20250330T010000
END:DAYLIGHT
BEGIN:STANDARD
TZOFFSETFROM:+0200
TZOFFSETTO:+0100
TZNAME:CET
DTSTART:20251026T010000
END:STANDARD
BEGIN:DAYLIGHT
TZOFFSETFROM:+0100
TZOFFSETTO:+0200
TZNAME:CEST
DTSTART:20260329T010000
END:DAYLIGHT
BEGIN:STANDARD
TZOFFSETFROM:+0200
TZOFFSETTO:+0100
TZNAME:CET
DTSTART:20261025T010000
END:STANDARD
BEGIN:DAYLIGHT
TZOFFSETFROM:+0100
TZOFFSETTO:+0200
TZNAME:CEST
DTSTART:20270328T010000
END:DAYLIGHT
BEGIN:STANDARD
TZOFFSETFROM:+0200
TZOFFSETTO:+0100
TZNAME:CET
DTSTART:20271031T010000
END:STANDARD
END:VTIMEZONE
BEGIN:VEVENT
DTSTART;TZID=Europe/Paris:20260529T081500
DTEND;TZID=Europe/Paris:20260529T091500
DTSTAMP:20260421T161102
CREATED:20260330T102700Z
LAST-MODIFIED:20260416T102259Z
UID:81038-1780042500-1780046100@cri1149.fr
SUMMARY:Traitement percutané des Valvulopathies: la Révolution de la cardiologie structurelle interventionnelle
DESCRIPTION:Pr. Marina Urena Alcazar\, Cardiologue\, Hôpital Bichat \n\n\n\nVendredi 29 mai🕣 8h15 – 9h15📍 Hôpital Bichat\, Salle de staff\, 11eme étage Sud
URL:https://cri1149.fr/evenement/traitement-percutane-des-valvulopathies-la-revolution-de-la-cardiologie-structurelle-interventionnelle/
LOCATION:Hôpital Bichat\, Salle de staff\, 11eme étage Sud\, 46 rue henri huchard\, Paris\, 75018
CATEGORIES:Evénements Scientifiques,Evénements Scientifiques
ATTACH;FMTTYPE=image/png:https://cri1149.fr/wp-content/uploads/2026/03/Petit-dej-29mai.png
ORGANIZER;CN="FHU INFIRE":MAILTO:fhu-infire@aphp.fr
END:VEVENT
END:VCALENDAR