BEGIN:VCALENDAR
VERSION:2.0
PRODID:-//CRI - ECPv6.15.17.1//NONSGML v1.0//EN
CALSCALE:GREGORIAN
METHOD:PUBLISH
X-WR-CALNAME:CRI
X-ORIGINAL-URL:https://cri1149.fr
X-WR-CALDESC:Évènements pour CRI
REFRESH-INTERVAL;VALUE=DURATION:PT1H
X-Robots-Tag:noindex
X-PUBLISHED-TTL:PT1H
BEGIN:VTIMEZONE
TZID:Europe/Paris
BEGIN:DAYLIGHT
TZOFFSETFROM:+0100
TZOFFSETTO:+0200
TZNAME:CEST
DTSTART:20250330T010000
END:DAYLIGHT
BEGIN:STANDARD
TZOFFSETFROM:+0200
TZOFFSETTO:+0100
TZNAME:CET
DTSTART:20251026T010000
END:STANDARD
BEGIN:DAYLIGHT
TZOFFSETFROM:+0100
TZOFFSETTO:+0200
TZNAME:CEST
DTSTART:20260329T010000
END:DAYLIGHT
BEGIN:STANDARD
TZOFFSETFROM:+0200
TZOFFSETTO:+0100
TZNAME:CET
DTSTART:20261025T010000
END:STANDARD
BEGIN:DAYLIGHT
TZOFFSETFROM:+0100
TZOFFSETTO:+0200
TZNAME:CEST
DTSTART:20270328T010000
END:DAYLIGHT
BEGIN:STANDARD
TZOFFSETFROM:+0200
TZOFFSETTO:+0100
TZNAME:CET
DTSTART:20271031T010000
END:STANDARD
END:VTIMEZONE
BEGIN:VEVENT
DTSTART;TZID=Europe/Paris:20260312T140000
DTEND;TZID=Europe/Paris:20260312T180000
DTSTAMP:20260421T141937
CREATED:20260311T064400Z
LAST-MODIFIED:20260416T102056Z
UID:80794-1773324000-1773338400@cri1149.fr
SUMMARY:Effets intestinaux de la metformine sur l'homéostasie glucidique et la sécrétion des incrétines après chirurgie bariatrique
DESCRIPTION:Mélanie Hirlemann  \n\n\n\nSous la direction de Maude LE GALL et Claire CARETTE
URL:https://cri1149.fr/evenement/effets-intestinaux-de-la-metformine-sur-lhomeostasie-glucidique-et-la-secretion-des-incretines-apres-chirurgie-bariatrique/
LOCATION:Salle de conférence 251\, 16 rue henri huchard\, Paris\, 75018\, France
CATEGORIES:Soutenance de thèse
ATTACH;FMTTYPE=image/png:https://cri1149.fr/wp-content/uploads/2021/12/These_2026.png
END:VEVENT
BEGIN:VEVENT
DTSTART;TZID=Europe/Paris:20260320T081500
DTEND;TZID=Europe/Paris:20260320T091500
DTSTAMP:20260421T141937
CREATED:20260219T144700Z
LAST-MODIFIED:20260416T102018Z
UID:80324-1773994500-1773998100@cri1149.fr
SUMMARY:Prise en charge du diabète en 2026 : nouveautés et perspectives 
DESCRIPTION:
URL:https://cri1149.fr/evenement/prise-en-charge-du-diabete-en-2026-nouveautes-et-perspectives/
LOCATION:Hôpital Bichat\, 46 rue henri huchard\, Paris\, 75018
CATEGORIES:Evénements Scientifiques
ATTACH;FMTTYPE=image/png:https://cri1149.fr/wp-content/uploads/2026/02/INFIRE-20-03-26.png
END:VEVENT
BEGIN:VEVENT
DTSTART;TZID=Europe/Paris:20260325T130000
DTEND;TZID=Europe/Paris:20260325T140000
DTSTAMP:20260421T141937
CREATED:20260205T142115Z
LAST-MODIFIED:20260416T101929Z
UID:79741-1774443600-1774447200@cri1149.fr
SUMMARY:The Double Edge of Replication Stress and DNA Damage: Drivers of Metabolic-dysfunction associated liver diseasebut Vulnerabilities in HCC Treatment
DESCRIPTION:
URL:https://cri1149.fr/evenement/the-double-edge-of-replication-stress-and-dna-damage-drivers-of-metabolic-dysfunction-associated-liver-diseasebut-vulnerabilities-in-hcc-treatment/
LOCATION:Salle 241B + Zoom\, 16 rue henri huchard\, Paris\, 75018\, France
CATEGORIES:Les Mercredis du CRI (MCRI)
ATTACH;FMTTYPE=image/png:https://cri1149.fr/wp-content/uploads/2026/02/MCRI-2026.png
ORGANIZER;CN="Le comit%C3%A9 d'organisation des s%C3%A9minaires du mercredi":MAILTO:seminairebichat@inserm.fr
END:VEVENT
END:VCALENDAR