BEGIN:VCALENDAR
VERSION:2.0
PRODID:-//CRI - ECPv6.15.17.1//NONSGML v1.0//EN
CALSCALE:GREGORIAN
METHOD:PUBLISH
X-ORIGINAL-URL:https://cri1149.fr
X-WR-CALDESC:Évènements pour CRI
REFRESH-INTERVAL;VALUE=DURATION:PT1H
X-Robots-Tag:noindex
X-PUBLISHED-TTL:PT1H
BEGIN:VTIMEZONE
TZID:Europe/Paris
BEGIN:DAYLIGHT
TZOFFSETFROM:+0100
TZOFFSETTO:+0200
TZNAME:CEST
DTSTART:20250330T010000
END:DAYLIGHT
BEGIN:STANDARD
TZOFFSETFROM:+0200
TZOFFSETTO:+0100
TZNAME:CET
DTSTART:20251026T010000
END:STANDARD
BEGIN:DAYLIGHT
TZOFFSETFROM:+0100
TZOFFSETTO:+0200
TZNAME:CEST
DTSTART:20260329T010000
END:DAYLIGHT
BEGIN:STANDARD
TZOFFSETFROM:+0200
TZOFFSETTO:+0100
TZNAME:CET
DTSTART:20261025T010000
END:STANDARD
BEGIN:DAYLIGHT
TZOFFSETFROM:+0100
TZOFFSETTO:+0200
TZNAME:CEST
DTSTART:20270328T010000
END:DAYLIGHT
BEGIN:STANDARD
TZOFFSETFROM:+0200
TZOFFSETTO:+0100
TZNAME:CET
DTSTART:20271031T010000
END:STANDARD
END:VTIMEZONE
BEGIN:VEVENT
DTSTART;TZID=Europe/Paris:20260107T130000
DTEND;TZID=Europe/Paris:20260107T140000
DTSTAMP:20260421T161104
CREATED:20260106T112925Z
LAST-MODIFIED:20260107T140500Z
UID:79643-1767790800-1767794400@cri1149.fr
SUMMARY:Prédiction de la réponse à la chimiothérapie dans le cancer du pancréas.
DESCRIPTION:Nous sommes ravis de lancer le premier séminaire MCRI de l’année\, avec Audrey Beaufils\, étudiante en doctorat de l’équipe de Nicolle.   \n\nAudrey présentera ce mercredi sa recherche doctorale sur « Predicting Chemotherapy Response in Pancreatic Cancer ». Comme d’habitude\, le séminaire débutera à 13 heures dans la salle 241 et sera précédé d’un café.
URL:https://cri1149.fr/evenement/prediction-de-la-reponse-a-la-chimiotherapie-dans-le-cancer-du-pancreas/
LOCATION:Salle 241B + Zoom\, 16 rue henri huchard\, Paris\, 75018\, France
CATEGORIES:Les Mercredis du CRI (MCRI)
ATTACH;FMTTYPE=image/png:https://cri1149.fr/wp-content/uploads/2025/03/Logo-events-Mercredi-du-CRI-2025-2-transparent.png
ORGANIZER;CN="Le comit%C3%A9 d'organisation des s%C3%A9minaires du mercredi":MAILTO:seminairebichat@inserm.fr
END:VEVENT
BEGIN:VEVENT
DTSTART;TZID=Europe/Paris:20260121T130000
DTEND;TZID=Europe/Paris:20260121T140000
DTSTAMP:20260421T161104
CREATED:20251209T102508Z
LAST-MODIFIED:20260109T163448Z
UID:79227-1769000400-1769004000@cri1149.fr
SUMMARY:Inter-Kingdom and Inter-Organ communications during Adaptive Developmental Growth
DESCRIPTION:Intervenants :Zelia Gouveia & Jean Agnetti\n\nAffiliation :CellAction et Agilent\n\nLangue :English (Anglais)
URL:https://cri1149.fr/evenement/inter-kingdom-and-inter-organ-communications-during-adaptive-developmental-growth/
LOCATION:Salle 241B + Zoom\, 16 rue henri huchard\, Paris\, 75018\, France
CATEGORIES:Les Mercredis du CRI (MCRI)
ATTACH;FMTTYPE=image/png:https://cri1149.fr/wp-content/uploads/2025/03/Logo-events-Mercredi-du-CRI-2025-2-transparent.png
ORGANIZER;CN="Le comit%C3%A9 d'organisation des s%C3%A9minaires du mercredi":MAILTO:seminairebichat@inserm.fr
END:VEVENT
BEGIN:VEVENT
DTSTART;TZID=Europe/Paris:20260123T080000
DTEND;TZID=Europe/Paris:20260123T090000
DTSTAMP:20260421T161104
CREATED:20251218T114939Z
LAST-MODIFIED:20260105T180549Z
UID:79326-1769155200-1769158800@cri1149.fr
SUMMARY:Maladies systémiques : Comprendre pour mieux traiter. Exemple de la PR et de ses atteintes pulmonaires
DESCRIPTION:Intervenants :Zelia Gouveia & Jean Agnetti\n\nAffiliation :CellAction et Agilent\n\nLangue :English (Anglais)\n\n\n\n📍 Lieu : Hôpital Bichat – Salle de staff\, 11ᵉ étage sud🕣 Horaire : 8h15 – 9h15🥐 Petit-déjeuner offert \n\n\n\n🎟️ 𝗘𝗡𝗧𝗥𝗘́𝗘 𝗟𝗜𝗕𝗥𝗘 🤩 Aucune inscription requise
URL:https://cri1149.fr/evenement/maladies-systemiques-comprendre-pour-mieux-traiter-exemple-de-la-pr-et-de-ses-atteintes-pulmonaires/
LOCATION:Hôpital Bichat\, 46 rue henri huchard\, Paris\, 75018
CATEGORIES:Evénements Scientifiques
ATTACH;FMTTYPE=image/jpeg:https://cri1149.fr/wp-content/uploads/2025/12/logo-petit-dej-infire.jpg
END:VEVENT
BEGIN:VEVENT
DTSTART;TZID=Europe/Paris:20260129T160000
DTEND;TZID=Europe/Paris:20260129T190000
DTSTAMP:20260421T161104
CREATED:20260311T065700Z
LAST-MODIFIED:20260311T143215Z
UID:80801-1769702400-1769713200@cri1149.fr
SUMMARY:Rôles du microbiote et du GLP-2 dans les processus d'adaptation dans le syndrome de grêle court : cinétiques des adaptations
DESCRIPTION:Alice Garrigues \n\n\n\nSous la direction de Johanne LE BEYEC – LE BIHAN et de André BADO\, au sein de l’équipe PIMS (CRI\, Inserm).
URL:https://cri1149.fr/evenement/roles-du-microbiote-et-du-glp-2-dans-les-processus-dadaptation-dans-le-syndrome-de-grele-court-cinetiques-des-adaptations/
LOCATION:Salle de conférence 251\, 16 rue henri huchard\, Paris\, 75018\, France
CATEGORIES:Soutenance de thèse
ATTACH;FMTTYPE=image/png:https://cri1149.fr/wp-content/uploads/2021/12/These_2026.png
END:VEVENT
END:VCALENDAR