BEGIN:VCALENDAR
VERSION:2.0
PRODID:-//CRI - ECPv6.15.17.1//NONSGML v1.0//EN
CALSCALE:GREGORIAN
METHOD:PUBLISH
X-WR-CALNAME:CRI
X-ORIGINAL-URL:https://cri1149.fr
X-WR-CALDESC:Évènements pour CRI
REFRESH-INTERVAL;VALUE=DURATION:PT1H
X-Robots-Tag:noindex
X-PUBLISHED-TTL:PT1H
BEGIN:VTIMEZONE
TZID:Europe/Paris
BEGIN:DAYLIGHT
TZOFFSETFROM:+0100
TZOFFSETTO:+0200
TZNAME:CEST
DTSTART:20240331T010000
END:DAYLIGHT
BEGIN:STANDARD
TZOFFSETFROM:+0200
TZOFFSETTO:+0100
TZNAME:CET
DTSTART:20241027T010000
END:STANDARD
BEGIN:DAYLIGHT
TZOFFSETFROM:+0100
TZOFFSETTO:+0200
TZNAME:CEST
DTSTART:20250330T010000
END:DAYLIGHT
BEGIN:STANDARD
TZOFFSETFROM:+0200
TZOFFSETTO:+0100
TZNAME:CET
DTSTART:20251026T010000
END:STANDARD
BEGIN:DAYLIGHT
TZOFFSETFROM:+0100
TZOFFSETTO:+0200
TZNAME:CEST
DTSTART:20260329T010000
END:DAYLIGHT
BEGIN:STANDARD
TZOFFSETFROM:+0200
TZOFFSETTO:+0100
TZNAME:CET
DTSTART:20261025T010000
END:STANDARD
END:VTIMEZONE
BEGIN:VEVENT
DTSTART;TZID=Europe/Paris:20250401T093000
DTEND;TZID=Europe/Paris:20250401T103000
DTSTAMP:20260422T082457
CREATED:20250312T154859Z
LAST-MODIFIED:20260311T143342Z
UID:74294-1743499800-1743503400@cri1149.fr
SUMMARY:Plateforme IMA’CRI
DESCRIPTION:
URL:https://cri1149.fr/evenement/plateforme-imacri/
LOCATION:Salle 528
CATEGORIES:La vie du CRI
ATTACH;FMTTYPE=image/png:https://cri1149.fr/wp-content/uploads/2024/04/Le-cafe-des-ITA-1.png
END:VEVENT
BEGIN:VEVENT
DTSTART;TZID=Europe/Paris:20250409T130000
DTEND;TZID=Europe/Paris:20250409T140000
DTSTAMP:20260422T082457
CREATED:20250319T082806Z
LAST-MODIFIED:20251205T161939Z
UID:74310-1744203600-1744207200@cri1149.fr
SUMMARY:Clinical impact of pancreas adenocarcinoma heterogeneity
DESCRIPTION:
URL:https://cri1149.fr/evenement/clinical-impact-of-pancreas-adenocarcinoma-heterogeneity/
LOCATION:Salle 241B + Zoom\, 16 rue henri huchard\, Paris\, 75018\, France
CATEGORIES:Les Mercredis du CRI (MCRI)
ATTACH;FMTTYPE=image/png:https://cri1149.fr/wp-content/uploads/2025/03/Logo-events-Mercredi-du-CRI-2025-2-transparent.png
ORGANIZER;CN="Le comit%C3%A9 d'organisation des s%C3%A9minaires du mercredi":MAILTO:seminairebichat@inserm.fr
END:VEVENT
BEGIN:VEVENT
DTSTART;TZID=Europe/Paris:20250415T080000
DTEND;TZID=Europe/Paris:20250415T180000
DTSTAMP:20260422T082457
CREATED:20250306T114334Z
LAST-MODIFIED:20251205T161941Z
UID:74253-1744704000-1744740000@cri1149.fr
SUMMARY:Allergy Research Today (ART)
DESCRIPTION:ART est de retour en présentiel ! À vos agendas ! \nC’est avec grand plaisir que nous vous informons que cette année la journée Allergy Research Today (ART) 2025 se tiendra le mardi 15 avril 2025 au Palais des Congrès de Paris. \nCe rendez-vous anglophone est organisé chaque année par la Société Française d’Allergologie et l’Association Française de Formation Médicale Continue (ANAFORCAL) dans le cadre de leur rendez-vous annuel commun\, le Congrès Francophone d’Allergologie (Congrès Francophone d’Allergologie). \nCette journée rassemble tous les scientifiques jeunes et seniors qui travaillent dans le domaine de l’immunologie et de l’allergologie. \nLe programme ART 2025 et le formulaire d’inscription sont disponibles sur le site du CFA\, accessible en cliquant ici.  \nPour plus d’informations\, nous vous invitons à nous contacter par e-mail sur cfa2025@margauxorange.com \nA très bientôt\, \nLe comité scientifique d’ART 2025 : Gael Menasche\, Isabella Annesi-Maesano\, Gregory Bouchaud\, Laurent Reber au nom de la Société Française d’Allergologie (SFA) et de l’Association Française pour la Formation Médicale Continue (ANAFORCAL)
URL:https://cri1149.fr/evenement/allergy-research-today-art/
LOCATION:Palais des Congrès de Paris\, 2 Place de la Porte Maillot\, Paris\, 75017\, France
CATEGORIES:Evénements Scientifiques
ATTACH;FMTTYPE=image/png:https://cri1149.fr/wp-content/uploads/2025/03/ART-OnLine.png
END:VEVENT
BEGIN:VEVENT
DTSTART;TZID=Europe/Paris:20250423T130000
DTEND;TZID=Europe/Paris:20250423T140000
DTSTAMP:20260422T082457
CREATED:20250307T161533Z
LAST-MODIFIED:20251205T161941Z
UID:74260-1745413200-1745416800@cri1149.fr
SUMMARY:Technical seminar: 1) Uncover cellular heterogeneity with multi-omics approaches for single-cell analysis.  2) Harnessing the Power of Multiplexing: Advanced Biomarker Quantitation with Luminex Immunoassays
DESCRIPTION:
URL:https://cri1149.fr/evenement/single-cell-rna-seq-et-multi-omics/
LOCATION:Salle 241B + Zoom\, 16 rue henri huchard\, Paris\, 75018\, France
CATEGORIES:Les Mercredis du CRI (MCRI)
ATTACH;FMTTYPE=image/png:https://cri1149.fr/wp-content/uploads/2025/03/Logo-events-Mercredi-du-CRI-2025-2-transparent.png
ORGANIZER;CN="Le comit%C3%A9 d'organisation des s%C3%A9minaires du mercredi":MAILTO:seminairebichat@inserm.fr
END:VEVENT
END:VCALENDAR