BEGIN:VCALENDAR
VERSION:2.0
PRODID:-//CRI - ECPv6.15.17.1//NONSGML v1.0//EN
CALSCALE:GREGORIAN
METHOD:PUBLISH
X-WR-CALNAME:CRI
X-ORIGINAL-URL:https://cri1149.fr
X-WR-CALDESC:Évènements pour CRI
REFRESH-INTERVAL;VALUE=DURATION:PT1H
X-Robots-Tag:noindex
X-PUBLISHED-TTL:PT1H
BEGIN:VTIMEZONE
TZID:Europe/Paris
BEGIN:DAYLIGHT
TZOFFSETFROM:+0100
TZOFFSETTO:+0200
TZNAME:CEST
DTSTART:20240331T010000
END:DAYLIGHT
BEGIN:STANDARD
TZOFFSETFROM:+0200
TZOFFSETTO:+0100
TZNAME:CET
DTSTART:20241027T010000
END:STANDARD
BEGIN:DAYLIGHT
TZOFFSETFROM:+0100
TZOFFSETTO:+0200
TZNAME:CEST
DTSTART:20250330T010000
END:DAYLIGHT
BEGIN:STANDARD
TZOFFSETFROM:+0200
TZOFFSETTO:+0100
TZNAME:CET
DTSTART:20251026T010000
END:STANDARD
BEGIN:DAYLIGHT
TZOFFSETFROM:+0100
TZOFFSETTO:+0200
TZNAME:CEST
DTSTART:20260329T010000
END:DAYLIGHT
BEGIN:STANDARD
TZOFFSETFROM:+0200
TZOFFSETTO:+0100
TZNAME:CET
DTSTART:20261025T010000
END:STANDARD
END:VTIMEZONE
BEGIN:VEVENT
DTSTART;TZID=Europe/Paris:20250205T130000
DTEND;TZID=Europe/Paris:20250205T140000
DTSTAMP:20260422T120412
CREATED:20250108T164411Z
LAST-MODIFIED:20251205T161955Z
UID:73924-1738760400-1738764000@cri1149.fr
SUMMARY:Role of reprogramming in cell plasticity upon chemotherpay in ovarian cancer
DESCRIPTION:
URL:https://cri1149.fr/evenement/role-of-reprogramming-in-cell-plasticity-upon-chemotherpay-in-ovarian-cancer/
LOCATION:Salle 241B + Zoom\, 16 rue henri huchard\, Paris\, 75018\, France
CATEGORIES:Les Mercredis du CRI (MCRI)
ATTACH;FMTTYPE=image/png:https://cri1149.fr/wp-content/uploads/2023/09/MCRI-transparent.png
ORGANIZER;CN="Le comit%C3%A9 d'organisation des s%C3%A9minaires du mercredi":MAILTO:seminairebichat@inserm.fr
END:VEVENT
BEGIN:VEVENT
DTSTART;TZID=Europe/Paris:20250219T130000
DTEND;TZID=Europe/Paris:20250219T140000
DTSTAMP:20260422T120412
CREATED:20250121T122251Z
LAST-MODIFIED:20251205T161954Z
UID:73971-1739970000-1739973600@cri1149.fr
SUMMARY:Intra-pulmonary Adipose Metaplasia in Lung Fibrosis: Friend or Foe?
DESCRIPTION:
URL:https://cri1149.fr/evenement/intra-pulmonary-adipose-metaplasia-in-lung-fibrosis-friend-or-foe/
LOCATION:Salle 241B + Zoom\, 16 rue henri huchard\, Paris\, 75018\, France
CATEGORIES:Les Mercredis du CRI (MCRI)
ATTACH;FMTTYPE=image/png:https://cri1149.fr/wp-content/uploads/2023/09/MCRI-transparent.png
ORGANIZER;CN="Le comit%C3%A9 d'organisation des s%C3%A9minaires du mercredi":MAILTO:seminairebichat@inserm.fr
END:VEVENT
BEGIN:VEVENT
DTSTART;TZID=Europe/Paris:20250226T130000
DTEND;TZID=Europe/Paris:20250226T140000
DTSTAMP:20260422T120412
CREATED:20250212T153409Z
LAST-MODIFIED:20251205T161944Z
UID:74139-1740574800-1740578400@cri1149.fr
SUMMARY:Sensitive and bispecific chimeric TCRs for cancer therapy
DESCRIPTION:
URL:https://cri1149.fr/evenement/sensitive-and-bispecific-chimeric-tcrs-for-cancer-therapy/
LOCATION:Salle 241B + Zoom\, 16 rue henri huchard\, Paris\, 75018\, France
CATEGORIES:Les Mercredis du CRI (MCRI)
ATTACH;FMTTYPE=image/png:https://cri1149.fr/wp-content/uploads/2023/09/MCRI-transparent.png
ORGANIZER;CN="Le comit%C3%A9 d'organisation des s%C3%A9minaires du mercredi":MAILTO:seminairebichat@inserm.fr
END:VEVENT
END:VCALENDAR