BEGIN:VCALENDAR
VERSION:2.0
PRODID:-//CRI - ECPv6.15.17.1//NONSGML v1.0//EN
CALSCALE:GREGORIAN
METHOD:PUBLISH
X-ORIGINAL-URL:https://cri1149.fr
X-WR-CALDESC:Évènements pour CRI
REFRESH-INTERVAL;VALUE=DURATION:PT1H
X-Robots-Tag:noindex
X-PUBLISHED-TTL:PT1H
BEGIN:VTIMEZONE
TZID:Europe/Paris
BEGIN:DAYLIGHT
TZOFFSETFROM:+0100
TZOFFSETTO:+0200
TZNAME:CEST
DTSTART:20230326T010000
END:DAYLIGHT
BEGIN:STANDARD
TZOFFSETFROM:+0200
TZOFFSETTO:+0100
TZNAME:CET
DTSTART:20231029T010000
END:STANDARD
BEGIN:DAYLIGHT
TZOFFSETFROM:+0100
TZOFFSETTO:+0200
TZNAME:CEST
DTSTART:20240331T010000
END:DAYLIGHT
BEGIN:STANDARD
TZOFFSETFROM:+0200
TZOFFSETTO:+0100
TZNAME:CET
DTSTART:20241027T010000
END:STANDARD
BEGIN:DAYLIGHT
TZOFFSETFROM:+0100
TZOFFSETTO:+0200
TZNAME:CEST
DTSTART:20250330T010000
END:DAYLIGHT
BEGIN:STANDARD
TZOFFSETFROM:+0200
TZOFFSETTO:+0100
TZNAME:CET
DTSTART:20251026T010000
END:STANDARD
END:VTIMEZONE
BEGIN:VEVENT
DTSTART;TZID=Europe/Paris:20241204T080000
DTEND;TZID=Europe/Paris:20241206T190000
DTSTAMP:20260422T152730
CREATED:20240517T143126Z
LAST-MODIFIED:20251205T162007Z
UID:73536-1733299200-1733511600@cri1149.fr
SUMMARY:Journées Francophones de Nutrition (JFN) 2024
DESCRIPTION:Les Journées Francophones de Nutrition (JFN) sont organisées par la SFN (Société Française de Nutrition) et la SFNCM (Société Francophone de Nutrition Clinique et Métabolisme). L’édition 2024 se déroulera du 04 au 06 décembre\, au Palais de la Musique et des Congrès de Strasbourg. \nCe Congrès est une occasion unique de rencontrer des professionnels de la nutrition de tous horizons et de discuter des dernières avancées dans le domaine. Des experts renommés y partageront\, aux travers de symposiums\, ateliers\, exposition poster\,  leurs connaissances et leurs recherches les plus récentes sur les thèmes les plus actuels. \nNe manquez pas cette opportunité d’améliorer vos compétences en nutrition et retrouvez toutes les informations sur : https://www.lesjfn.fr/
URL:https://cri1149.fr/evenement/journees-francophones-de-nutrition-jfn-2024/
LOCATION:Palais de la Musique et des Congrès de Strasbourg\, Palais des Congrès\, Pl. de Bordeaux\, Strasbourg\, 67000\, France
CATEGORIES:Evénements Scientifiques
ATTACH;FMTTYPE=image/png:https://cri1149.fr/wp-content/uploads/2024/05/JFN-2024.png
END:VEVENT
BEGIN:VEVENT
DTSTART;TZID=Europe/Paris:20241204T130000
DTEND;TZID=Europe/Paris:20241204T140000
DTSTAMP:20260422T152730
CREATED:20241022T130950Z
LAST-MODIFIED:20251205T161958Z
UID:73848-1733317200-1733320800@cri1149.fr
SUMMARY:Diet\, Microbiota\, Chronic Intestinal Inflammation\, and Metabolic Syndrome.
DESCRIPTION:Invited by E.Viennois
URL:https://cri1149.fr/evenement/to-be-announced-13/
LOCATION:Salle 241B + Zoom\, 16 rue henri huchard\, Paris\, 75018\, France
CATEGORIES:Les Mercredis du CRI (MCRI)
ATTACH;FMTTYPE=image/png:https://cri1149.fr/wp-content/uploads/2023/09/MCRI-transparent.png
END:VEVENT
END:VCALENDAR