BEGIN:VCALENDAR
VERSION:2.0
PRODID:-//CRI - ECPv6.15.17.1//NONSGML v1.0//EN
CALSCALE:GREGORIAN
METHOD:PUBLISH
X-WR-CALNAME:CRI
X-ORIGINAL-URL:https://cri1149.fr
X-WR-CALDESC:Évènements pour CRI
REFRESH-INTERVAL;VALUE=DURATION:PT1H
X-Robots-Tag:noindex
X-PUBLISHED-TTL:PT1H
BEGIN:VTIMEZONE
TZID:Europe/Paris
BEGIN:DAYLIGHT
TZOFFSETFROM:+0100
TZOFFSETTO:+0200
TZNAME:CEST
DTSTART:20230326T010000
END:DAYLIGHT
BEGIN:STANDARD
TZOFFSETFROM:+0200
TZOFFSETTO:+0100
TZNAME:CET
DTSTART:20231029T010000
END:STANDARD
BEGIN:DAYLIGHT
TZOFFSETFROM:+0100
TZOFFSETTO:+0200
TZNAME:CEST
DTSTART:20240331T010000
END:DAYLIGHT
BEGIN:STANDARD
TZOFFSETFROM:+0200
TZOFFSETTO:+0100
TZNAME:CET
DTSTART:20241027T010000
END:STANDARD
BEGIN:DAYLIGHT
TZOFFSETFROM:+0100
TZOFFSETTO:+0200
TZNAME:CEST
DTSTART:20250330T010000
END:DAYLIGHT
BEGIN:STANDARD
TZOFFSETFROM:+0200
TZOFFSETTO:+0100
TZNAME:CET
DTSTART:20251026T010000
END:STANDARD
END:VTIMEZONE
BEGIN:VEVENT
DTSTART;TZID=Europe/Paris:20241106T130000
DTEND;TZID=Europe/Paris:20241106T140000
DTSTAMP:20260422T165226
CREATED:20241022T130006Z
LAST-MODIFIED:20251205T161958Z
UID:73842-1730898000-1730901600@cri1149.fr
SUMMARY:To be announced
DESCRIPTION:Invited by B. Crestani
URL:https://cri1149.fr/evenement/to-be-announced-12/
LOCATION:Salle 241B + Zoom\, 16 rue henri huchard\, Paris\, 75018\, France
CATEGORIES:Les Mercredis du CRI (MCRI)
ATTACH;FMTTYPE=image/png:https://cri1149.fr/wp-content/uploads/2023/09/MCRI-transparent.png
END:VEVENT
BEGIN:VEVENT
DTSTART;TZID=Europe/Paris:20241112T140000
DTEND;TZID=Europe/Paris:20241112T180000
DTSTAMP:20260422T165226
CREATED:20241022T145322Z
LAST-MODIFIED:20251205T161958Z
UID:73856-1731420000-1731434400@cri1149.fr
SUMMARY:Rôle de l'autophagie dans la signalisation\, le trafic et les fonctions des récepteurs au fragment Fc des immunoglobulines dans les cellules myéloïdes
DESCRIPTION:J’ai le plaisir de vous convier à ma soutenance de thèse qui aura lieu le 12 novembre 2024 à 14h en salle 251.  \nElle portera sur le Rôle de l’autophagie dans la signalisation\, le trafic et les fonctions des récepteurs au fragment Fc des immunoglobulines dans les cellules myéloïdes et sera présentée en anglais.  \nA l’issus de la présentation\, je vous invite autour d’un buffet composé de spécialités Bourguignonnes\, afin de vous faire découvrir ma belle région natale.  \nEn espérant vous voir nombreux\, 
URL:https://cri1149.fr/evenement/role-de-lautophagie-dans-la-signalisation-le-trafic-et-les-fonctions-des-recepteurs-au-fragment-fc-des-immunoglobulines-dans-les-cellules-myeloides/
LOCATION:Salle de conférence 251\, 16 rue henri huchard\, Paris\, 75018\, France
CATEGORIES:Soutenance de thèse
ATTACH;FMTTYPE=image/jpeg:https://cri1149.fr/wp-content/uploads/2021/12/banniere-theses.jpg
END:VEVENT
BEGIN:VEVENT
DTSTART;TZID=Europe/Paris:20241113T130000
DTEND;TZID=Europe/Paris:20241113T140000
DTSTAMP:20260422T165226
CREATED:20241022T130459Z
LAST-MODIFIED:20251205T161958Z
UID:73844-1731502800-1731506400@cri1149.fr
SUMMARY:Innate immune memory of tissue-resident macrophages
DESCRIPTION:Invited by JM Sallenave
URL:https://cri1149.fr/evenement/innate-immune-memory-of-tissue-resident-macrophages/
LOCATION:Salle 241B + Zoom\, 16 rue henri huchard\, Paris\, 75018\, France
CATEGORIES:Les Mercredis du CRI (MCRI)
ATTACH;FMTTYPE=image/png:https://cri1149.fr/wp-content/uploads/2023/09/MCRI-transparent.png
END:VEVENT
BEGIN:VEVENT
DTSTART;TZID=Europe/Paris:20241120T130000
DTEND;TZID=Europe/Paris:20241120T140000
DTSTAMP:20260422T165226
CREATED:20241022T130816Z
LAST-MODIFIED:20251205T161958Z
UID:73846-1732107600-1732111200@cri1149.fr
SUMMARY:Murine models of erythroid 5ALA synthesis disorders and their conditional synthetic lethal dependency on pyridoxine
DESCRIPTION:Invited by C. Kannengiesser
URL:https://cri1149.fr/evenement/murine-models-of-erythroid-5ala-synthesis-disorders-and-their-conditional-synthetic-lethal-dependency-on-pyridoxine/
LOCATION:Zoom uniquement (MCRI)
CATEGORIES:Les Mercredis du CRI (MCRI)
ATTACH;FMTTYPE=image/png:https://cri1149.fr/wp-content/uploads/2023/09/MCRI-transparent.png
END:VEVENT
BEGIN:VEVENT
DTSTART;TZID=Europe/Paris:20241127T130000
DTEND;TZID=Europe/Paris:20241127T140000
DTSTAMP:20260422T165226
CREATED:20241127T113818Z
LAST-MODIFIED:20251205T161956Z
UID:73887-1732712400-1732716000@cri1149.fr
SUMMARY:Séminaire "Maladie de Crohn" - Départ en retraite
DESCRIPTION:
URL:https://cri1149.fr/evenement/seminaire-maladie-de-crohn-depart-en-retraite/
LOCATION:Salle 241B + Zoom\, 16 rue henri huchard\, Paris\, 75018\, France
CATEGORIES:Les Mercredis du CRI (MCRI)
ATTACH;FMTTYPE=image/png:https://cri1149.fr/wp-content/uploads/2023/09/MCRI-transparent.png
ORGANIZER;CN="Le comit%C3%A9 d'organisation des s%C3%A9minaires du mercredi":MAILTO:seminairebichat@inserm.fr
END:VEVENT
END:VCALENDAR