BEGIN:VCALENDAR
VERSION:2.0
PRODID:-//CRI - ECPv6.15.17.1//NONSGML v1.0//EN
CALSCALE:GREGORIAN
METHOD:PUBLISH
X-ORIGINAL-URL:https://cri1149.fr
X-WR-CALDESC:Évènements pour CRI
REFRESH-INTERVAL;VALUE=DURATION:PT1H
X-Robots-Tag:noindex
X-PUBLISHED-TTL:PT1H
BEGIN:VTIMEZONE
TZID:Europe/Paris
BEGIN:DAYLIGHT
TZOFFSETFROM:+0100
TZOFFSETTO:+0200
TZNAME:CEST
DTSTART:20230326T010000
END:DAYLIGHT
BEGIN:STANDARD
TZOFFSETFROM:+0200
TZOFFSETTO:+0100
TZNAME:CET
DTSTART:20231029T010000
END:STANDARD
BEGIN:DAYLIGHT
TZOFFSETFROM:+0100
TZOFFSETTO:+0200
TZNAME:CEST
DTSTART:20240331T010000
END:DAYLIGHT
BEGIN:STANDARD
TZOFFSETFROM:+0200
TZOFFSETTO:+0100
TZNAME:CET
DTSTART:20241027T010000
END:STANDARD
BEGIN:DAYLIGHT
TZOFFSETFROM:+0100
TZOFFSETTO:+0200
TZNAME:CEST
DTSTART:20250330T010000
END:DAYLIGHT
BEGIN:STANDARD
TZOFFSETFROM:+0200
TZOFFSETTO:+0100
TZNAME:CET
DTSTART:20251026T010000
END:STANDARD
END:VTIMEZONE
BEGIN:VEVENT
DTSTART;TZID=Europe/Paris:20241001T080000
DTEND;TZID=Europe/Paris:20241004T190000
DTSTAMP:20260422T184755
CREATED:20240517T144813Z
LAST-MODIFIED:20251205T162007Z
UID:73542-1727769600-1728068400@cri1149.fr
SUMMARY:Société Francophone de Néphrologie\, Dialyse et Transplantation (SFNDT) 2024
DESCRIPTION:Les équipes de néphrologie de Nouvelle-Aquitaine\, notamment celles des CHU de Bordeaux\, Limoges et Poitiers\, se sont mobilisées pour que le neuvième congrès annuel de la SFNDT soit une réussite\, que ce soit sur le versant de la vie scientifique\, de la formation médicale continue\, ou de la convivialité qui pourra vous surprendre. Le programme est passionnant\, les orateurs invités sauront nous captiver\, la sélection des communications nécessite des choix\, guidés par l’excellence que notre société développe au fil de sa croissance\, remarquable à tous égards. Nous espérons que vous serez très nombreux à participer au congrès sur place. Bordeaux et ses environs méritent que vous les visitiez\, octobre est une belle période pour flâner dans les vignes ou vivre les grandes marées.
URL:https://cri1149.fr/evenement/societe-francophone-de-nephrologie-dialyse-et-transplantation-sfndt-2024/
LOCATION:Palais des Congrès Bordeaux\, Avenue Jean Gabriel Domergue\, Bordeaux\, 33300\, France
CATEGORIES:Evénements Scientifiques
ATTACH;FMTTYPE=image/jpeg:https://cri1149.fr/wp-content/uploads/2024/05/1710842036518.jpg
ORGANIZER;CN="Soci%C3%A9t%C3%A9 Francophone de N%C3%A9phrologie%2C Dialyse et Transplantation (SFNDT)":MAILTO:https://www.sfndt.org/
END:VEVENT
BEGIN:VEVENT
DTSTART;TZID=Europe/Paris:20241002T080000
DTEND;TZID=Europe/Paris:20241004T180000
DTSTAMP:20260422T184755
CREATED:20240913T123402Z
LAST-MODIFIED:20251205T162000Z
UID:73769-1727856000-1728064800@cri1149.fr
SUMMARY:AFEF 2024
DESCRIPTION:Les 95èmes Journées de l’AFEF (Association Française pour l’Étude du Foie) se tiendront du 2 au 4 octobre 2024 à Antibes\, un cadre prestigieux au cœur de la Côte d’Azur. Cet événement scientifique de premier plan rassemblera les experts de l’hépatologie française et internationale pour aborder les avancées récentes dans le domaine des maladies du foie. Conférences\, tables rondes et ateliers pratiques rythmeront ces journées\, permettant aux participants d’échanger sur les innovations thérapeutiques et les défis cliniques actuels. Lieu de rencontre privilégié entre chercheurs\, cliniciens et professionnels de santé\, ces journées sont un rendez-vous incontournable pour le partage de connaissances et le développement de nouvelles perspectives dans le traitement des pathologies hépatiques. \nPlus d’informations sur : https://www.congres-afef.com/
URL:https://cri1149.fr/evenement/afef-2024/
LOCATION:Antipolis – Palais des congrès\, 60 Chemin des Sables\, Antibes\, 06160\, France
CATEGORIES:Evénements Scientifiques
ATTACH;FMTTYPE=image/png:https://cri1149.fr/wp-content/uploads/2024/09/AFEF-2024.png
ORGANIZER;CN="Soci%C3%A9t%C3%A9 Fran%C3%A7aise d'H%C3%A9patologie (AFEF)":MAILTO:secretariat.afef@afef.asso.fr
END:VEVENT
BEGIN:VEVENT
DTSTART;TZID=Europe/Paris:20241008T080000
DTEND;TZID=Europe/Paris:20241008T190000
DTSTAMP:20260422T184755
CREATED:20240619T090221Z
LAST-MODIFIED:20251205T162004Z
UID:73658-1728374400-1728414000@cri1149.fr
SUMMARY:Journée des Jeunes Chercheurs Bichat Beaujon (JCBB)
DESCRIPTION:Programme\nAprès le succès de la précédente édition\, la Journée des Jeunes Chercheurs Bichat Beaujon (JCBB) revient pour sa 4ème édition! Elle regroupe le CRI\, IAME\, le LVTS\, l’U1152 et l’URP2496. \nCette journée aura lieu le mardi 8 octobre 2024 au premier sous-sol de la faculté de médecine de Bichat et nous espérons vous voir en nombre. \nCette journée permettra à chaque master\, doctorant.e et post-doctorant.e de présenter ses travaux à travers une présentation orale ou un poster. La meilleure présentation orale et le meilleur poster se verront décerner un prix ! \nCette journée est aussi l’occasion de vulgariser son projet de master\, de thèse ou bien de post-doc en trois minutes\, avec la session « Pitch your project ». Le meilleur oral de vulgarisation sera également récompensé d’un prix. \nUne nouvelle Table Ronde des Carrières est également prévue sous le thème « What’s next after my PhD/Postdoc ? » afin que chaque jeune chercheur puisse échanger avec d’anciens doctorants et post doctorants évoluant aujourd’hui dans des carrières publiques\, académiques ou privées. Nous aurons le plaisir d’avoir le retour d’expérience d’un panel assez important d’intervenants ayant des profils variés : \n\nMathilde Maillard\, Postdoc en impression 3D pour application biomédicale\, fondatrice de Bien Dans Ma Thèse\nCharles Cavaniol\, Postdoc fondateur de sa startup avec DeepTech and iPhD support\nNatália Breyner\, Directrice d’étude de modèle in vitro et in vivo chez Physiogenex\nMaite Casado Bedmar\, Medical Affairs Rare Diseases – PhD MBA\nSandra Sanfilippo\, LifeScience Researcher – R&D project leader chez Stago\nJad Eid\, enseignant chercheur en Bio-informatique et Biophysique en école d’ingénieur (privée)\nEtienne Becht\, Chargé de Recherche INSERM après avoir travaillé 4 ans chez Servier\n\nL’inscription est OBLIGATOIRE pour assister à l’événement. En plus des traditionnelles présentations orales ou posters\, nous vous proposons petit-déjeuner\, déjeuner\, stands des sponsors\, table ronde et suivi d’un pot sur place ! Alors n’attendez plus et inscrivez-vous pour profiter pleinement de cette journée !  \nGrâce au soutien du CRI\, d’IAME\, du LVTS\, de l’URP2496 et des sponsors\, cette journée est entièrement gratuite pour tous les participants. \nEn espérant vous voir nombreux\, \nLe comité d’organisation de la JCBB \nMichelle\, Louis\, Océane\, Eliott\, Amélie\, Nour\, Mathilde\, Rémi\, Mélanie\, Alice\, Bruno\, Nathanne\, Gabrielle\, Marguerite\, Maha\, Assil\, Nicolas\, Omaima et Thomas \nProgramme\n 
URL:https://cri1149.fr/evenement/journee-des-jeunes-chercheurs-bichat-beaujon-jcbb-2/
LOCATION:Amphithéâtre\, 16 rue henri huchard\, Paris\, 75018\, France
CATEGORIES:Evénements Scientifiques
ATTACH;FMTTYPE=image/png:https://cri1149.fr/wp-content/uploads/2024/06/affiche-JCBB-2024.png
ORGANIZER;CN="Comit%C3%A9 d%E2%80%99organisation de la JCBB":MAILTO:youngresearchersparisnord@gmail.com
END:VEVENT
BEGIN:VEVENT
DTSTART;TZID=Europe/Paris:20241009T130000
DTEND;TZID=Europe/Paris:20241009T140000
DTSTAMP:20260422T184755
CREATED:20240411T112555Z
LAST-MODIFIED:20251205T162009Z
UID:73435-1728478800-1728482400@cri1149.fr
SUMMARY:Présentation de la plateforme d'imagerie FRIM - Site Bichat
DESCRIPTION:
URL:https://cri1149.fr/evenement/presentation-de-la-plateforme-dimagerie-frim-site-bichat/
LOCATION:Salle 241B + Zoom\, 16 rue henri huchard\, Paris\, 75018\, France
CATEGORIES:Les Mercredis du CRI (MCRI)
ATTACH;FMTTYPE=image/png:https://cri1149.fr/wp-content/uploads/2023/09/MCRI-transparent.png
ORGANIZER;CN="Le comit%C3%A9 d'organisation des s%C3%A9minaires du mercredi":MAILTO:seminairebichat@inserm.fr
END:VEVENT
BEGIN:VEVENT
DTSTART;TZID=Europe/Paris:20241016T130000
DTEND;TZID=Europe/Paris:20241016T140000
DTSTAMP:20260422T184755
CREATED:20240812T122746Z
LAST-MODIFIED:20251205T162001Z
UID:73716-1729083600-1729087200@cri1149.fr
SUMMARY:Tumor-specific T cells in hematological malignancy: Illusion or Reality?
DESCRIPTION:
URL:https://cri1149.fr/evenement/tumor-specific-t-cells-in-hematological-malignancy-illusion-or-reality/
LOCATION:Salle 241B + Zoom\, 16 rue henri huchard\, Paris\, 75018\, France
CATEGORIES:Les Mercredis du CRI (MCRI)
ATTACH;FMTTYPE=image/png:https://cri1149.fr/wp-content/uploads/2023/09/MCRI-transparent.png
ORGANIZER;CN="Le comit%C3%A9 d'organisation des s%C3%A9minaires du mercredi":MAILTO:seminairebichat@inserm.fr
END:VEVENT
BEGIN:VEVENT
DTSTART;TZID=Europe/Paris:20241023T130000
DTEND;TZID=Europe/Paris:20241023T140000
DTSTAMP:20260422T184755
CREATED:20240812T122856Z
LAST-MODIFIED:20251205T162000Z
UID:73718-1729688400-1729692000@cri1149.fr
SUMMARY:1)Ankyrons: the future of target-binding reagents  2)RNAscope : Easy and robust spatial transcriptomic and Proteomic with single cell resolution
DESCRIPTION:
URL:https://cri1149.fr/evenement/rnascope-easy-and-robust-spatial-transcriptomic-and-proteomic-with-single-cell-resolution/
LOCATION:Salle 241B + Zoom\, 16 rue henri huchard\, Paris\, 75018\, France
CATEGORIES:Les Mercredis du CRI (MCRI)
ATTACH;FMTTYPE=image/png:https://cri1149.fr/wp-content/uploads/2023/09/MCRI-transparent.png
ORGANIZER;CN="Le comit%C3%A9 d'organisation des s%C3%A9minaires du mercredi":MAILTO:seminairebichat@inserm.fr
END:VEVENT
BEGIN:VEVENT
DTSTART;TZID=Europe/Paris:20241024T140000
DTEND;TZID=Europe/Paris:20241024T180000
DTSTAMP:20260422T184755
CREATED:20241010T082044Z
LAST-MODIFIED:20251205T161959Z
UID:73817-1729778400-1729792800@cri1149.fr
SUMMARY:miARN fécaux\, acteurs clés du dialogue hôte-microbiote et impact sur la santé intestinale des patients atteints de MICI
DESCRIPTION:Chers collègues du CRI et de l’U1152\, \nJ’ai le plaisir de vous inviter à ma soutenance d’HDR intitulée « miARN fécaux\, acteurs clés du dialogue hôte-microbiote et impact sur la santé intestinale des patients atteints de MICI ». \nElle aura lieu le jeudi 24 octobre à 14h\, dans la salle 241. La soutenance sera suivie d’un pot dans la même salle auquel vous êtes cordialement invités.
URL:https://cri1149.fr/evenement/miarn-fecaux-acteurs-cles-du-dialogue-hote-microbiote-et-impact-sur-la-sante-intestinale-des-patients-atteints-de-mici/
LOCATION:Salle 241B\, 16 rue Henri Huchard\, Paris\, 75018\, France
CATEGORIES:Evénements Scientifiques
ATTACH;FMTTYPE=image/png:https://cri1149.fr/wp-content/uploads/2024/10/HDR-Emilie-viennois-2024.png
END:VEVENT
BEGIN:VEVENT
DTSTART;TZID=Europe/Paris:20241024T143000
DTEND;TZID=Europe/Paris:20241024T170000
DTSTAMP:20260422T184755
CREATED:20241007T091803Z
LAST-MODIFIED:20251205T161959Z
UID:73813-1729780200-1729789200@cri1149.fr
SUMMARY:Rôle des cellules myéloïdes suppressives dans les infections pulmonaires à Pseudomonas aeruginosa
DESCRIPTION:Chers collègues\, \nJ’ai le plaisir de vous inviter à ma soutenance de thèse intitulée « Rôle des cellules myéloïdes suppressives dans les infections pulmonaires à Pseudomonas aeruginosa» et dirigée par le Pr. Jean-Michel Sallenave au sein de l’unité 1152\, équipe 3 – Immunité innée et défense pulmonaire anti-infectieuse.  \nElle se tiendra le jeudi 24 octobre 2024 à 14h dans la salle de conférence 251 de la faculté de Médecine de Bichat. Elle sera suivie d’un pot qui se déroulera dans la salle de réunion de l’unité U1152\, auquel vous êtes tous conviés.  \nAu plaisir de vous y voir nombreux ! 
URL:https://cri1149.fr/evenement/role-des-cellules-myeloides-suppressives-dans-les-infections-pulmonaires-a-pseudomonas-aeruginosa/
LOCATION:Salle de conférence 251\, 16 rue henri huchard\, Paris\, 75018\, France
CATEGORIES:Soutenance de thèse
ATTACH;FMTTYPE=image/jpeg:https://cri1149.fr/wp-content/uploads/2021/12/banniere-theses.jpg
END:VEVENT
BEGIN:VEVENT
DTSTART;TZID=Europe/Paris:20241028T083000
DTEND;TZID=Europe/Paris:20241029T183000
DTSTAMP:20260422T184755
CREATED:20240717T085729Z
LAST-MODIFIED:20251205T162001Z
UID:73703-1730104200-1730226600@cri1149.fr
SUMMARY:Colloque de l’Inserm sur le Microbiote
DESCRIPTION:Le programme transversal Microbiote prend fin en 2024. Un colloque de clôture se tiendra les 28 et 29 octobre 2024 dans les locaux de l’Université Paris Cité. Cette réunion scientifique permettra de présenter les travaux réalisés et de faire le point sur le rôle du microbiote en santé. Retrouvez toutes les informations\, les formulaires d’inscription et de soumission des résumés de poster. \nInscription gratuite mais obligatoire\, avant le 15 septembre 2024 \nDepuis 20 ans\, un nombre croissant de travaux explorent la complexité des communautés microbiennes vivant en symbiose avec leurs hôtes et leur importance dans la santé. Ils ont particulièrement mis en lumière le microbiote intestinal. Ils ont montré comment les nombreux effets bénéfiques de la symbiose établie entre l’homme et ses bactéries intestinales\, ont été compromis depuis 50 ans par les modifications de l’environnement et de l’alimentation associées à l’industrialisation. Les altérations de l’écosystème intestinal sont désormais considérées comme un acteur majeur de « l’épidémie » mondiale de maladies chroniques inflammatoires et métaboliques. \nC’est pour mieux comprendre le rôle du microbiote en santé et en pathologie humaine que l’Inserm a lancé en 2017 un programme scientifique transversal dédié\, réunissant une vingtaine d’équipes. Ce programme s’est attaché à la recherche de liens de causalité entre modifications du microbiote et maladies\, notamment à travers la recherche des voies métaboliques impactées par les changements du microbiote et l’étude de l’écosystème intestinal. \nCe colloque permet de faire le point au moment où le Programme de Recherche\, Systèmes Alimentaires\, Microbiomes et Santé\, (PEPR SAMS)\, financé dans le cadre du plan d’investissement France 2030\, prend le relais pour soutenir un effort national autour de ce domaine de recherche. \n  \nhttps://pro.inserm.fr/evenements/colloque-de-linserm-sur-le-microbiote
URL:https://cri1149.fr/evenement/colloque-de-linserm-sur-le-microbiote/
LOCATION:Faculté Necker\, Grand Amphithéâtre\, 160 rue de Vaugirard\, Paris\, 75015\, France
CATEGORIES:Evénements Scientifiques
ATTACH;FMTTYPE=image/png:https://cri1149.fr/wp-content/uploads/2024/07/Symposium-Microbiote-Inserm.png
END:VEVENT
END:VCALENDAR