BEGIN:VCALENDAR
VERSION:2.0
PRODID:-//CRI - ECPv6.15.17.1//NONSGML v1.0//EN
CALSCALE:GREGORIAN
METHOD:PUBLISH
X-WR-CALNAME:CRI
X-ORIGINAL-URL:https://cri1149.fr
X-WR-CALDESC:Évènements pour CRI
REFRESH-INTERVAL;VALUE=DURATION:PT1H
X-Robots-Tag:noindex
X-PUBLISHED-TTL:PT1H
BEGIN:VTIMEZONE
TZID:Europe/Paris
BEGIN:DAYLIGHT
TZOFFSETFROM:+0100
TZOFFSETTO:+0200
TZNAME:CEST
DTSTART:20230326T010000
END:DAYLIGHT
BEGIN:STANDARD
TZOFFSETFROM:+0200
TZOFFSETTO:+0100
TZNAME:CET
DTSTART:20231029T010000
END:STANDARD
BEGIN:DAYLIGHT
TZOFFSETFROM:+0100
TZOFFSETTO:+0200
TZNAME:CEST
DTSTART:20240331T010000
END:DAYLIGHT
BEGIN:STANDARD
TZOFFSETFROM:+0200
TZOFFSETTO:+0100
TZNAME:CET
DTSTART:20241027T010000
END:STANDARD
BEGIN:DAYLIGHT
TZOFFSETFROM:+0100
TZOFFSETTO:+0200
TZNAME:CEST
DTSTART:20250330T010000
END:DAYLIGHT
BEGIN:STANDARD
TZOFFSETFROM:+0200
TZOFFSETTO:+0100
TZNAME:CET
DTSTART:20251026T010000
END:STANDARD
END:VTIMEZONE
BEGIN:VEVENT
DTSTART;TZID=Europe/Paris:20240604T093000
DTEND;TZID=Europe/Paris:20240604T103000
DTSTAMP:20260423T015356
CREATED:20240411T134257Z
LAST-MODIFIED:20251205T162009Z
UID:73446-1717493400-1717497000@cri1149.fr
SUMMARY:Café des ITA (à Beaujon)
DESCRIPTION:Le café des ITA est un moment de partage où les ITA\, ITRF\, BIATSS du CRI peuvent se retrouver pour assister à une présentation d’un service ou une équipe du CRI\, afin de partager les compétences et les savoirs. Suivi d’une discussion entre personnels sur différents sujets scientifiques\, de gestion ou d’actualités du centre. \nDes convivialités sont présentes lors de ces rassemblements (café et gâteaux). \nCe mardi 4 juin\, l’équipe de Beaujon nous présentera leur activité. \n 
URL:https://cri1149.fr/evenement/cafe-des-ita-a-beaujon/
LOCATION:Amphithéâtre ABRAMI (Beaujon)\, 100 Boulevard du Général Leclerc\, Clichy\, 92110
CATEGORIES:La vie du CRI
ATTACH;FMTTYPE=image/png:https://cri1149.fr/wp-content/uploads/2024/04/Le-cafe-des-ITA-1.png
END:VEVENT
BEGIN:VEVENT
DTSTART;TZID=Europe/Paris:20240605T080000
DTEND;TZID=Europe/Paris:20240608T190000
DTSTAMP:20260423T015356
CREATED:20240517T142337Z
LAST-MODIFIED:20251205T162008Z
UID:73531-1717574400-1717873200@cri1149.fr
SUMMARY:Congrès EASL 2024
DESCRIPTION:Du 5 au 8 juin\, Milan sera la capitale de l’hépatologie ! Le congrès EASL 2024 rassemble plus de 7 000 professionnels\, dont des cliniciens\, des chercheurs\, des professionnels paramédicaux\, des représentants de patients et des professionnels de l’industrie. Il s’impose comme le plus grand événement européen dans ce domaine. \nAu cours de quatre jours interactifs\, vous bénéficierez de séances d’apprentissage pratiques dirigées par des professeurs de classe mondiale\, offrant ainsi une fantastique opportunité à la communauté du foie de partager des recherches\, de réseauter et de dialoguer avec des experts en hépatologie de premier plan.
URL:https://cri1149.fr/evenement/congres-easl-2024/
LOCATION:Milan\, Milan\, Italie
CATEGORIES:Evénements Scientifiques
ATTACH;FMTTYPE=image/png:https://cri1149.fr/wp-content/uploads/2024/05/EASL-2024.png
END:VEVENT
BEGIN:VEVENT
DTSTART;TZID=Europe/Paris:20240605T130000
DTEND;TZID=Europe/Paris:20240605T140000
DTSTAMP:20260423T015356
CREATED:20240530T100833Z
LAST-MODIFIED:20251205T162006Z
UID:73581-1717592400-1717596000@cri1149.fr
SUMMARY:IROC\, the personalized support platform for literature review and daily notes
DESCRIPTION:
URL:https://cri1149.fr/evenement/iroc-the-personalized-support-platform-for-literature-review-and-daily-notes/
LOCATION:Zoom uniquement (MCRI)
CATEGORIES:Les Mercredis du CRI (MCRI)
ATTACH;FMTTYPE=image/png:https://cri1149.fr/wp-content/uploads/2023/09/MCRI-transparent.png
ORGANIZER;CN="Le comit%C3%A9 d'organisation des s%C3%A9minaires du mercredi":MAILTO:seminairebichat@inserm.fr
END:VEVENT
BEGIN:VEVENT
DTSTART;TZID=Europe/Paris:20240612T130000
DTEND;TZID=Europe/Paris:20240612T140000
DTSTAMP:20260423T015356
CREATED:20240610T144838Z
LAST-MODIFIED:20251205T162006Z
UID:73587-1718197200-1718200800@cri1149.fr
SUMMARY:Investigating vascular ageing and its impact on immune cell function: When neutrophils get mad!
DESCRIPTION:
URL:https://cri1149.fr/evenement/investigating-vascular-ageing-and-its-impact-on-immune-cell-function-when-neutrophils-get-mad/
LOCATION:Zoom uniquement (MCRI)
CATEGORIES:Les Mercredis du CRI (MCRI)
ATTACH;FMTTYPE=image/png:https://cri1149.fr/wp-content/uploads/2023/09/MCRI-transparent.png
ORGANIZER;CN="Le comit%C3%A9 d'organisation des s%C3%A9minaires du mercredi":MAILTO:seminairebichat@inserm.fr
END:VEVENT
BEGIN:VEVENT
DTSTART;TZID=Europe/Paris:20240619T130000
DTEND;TZID=Europe/Paris:20240619T140000
DTSTAMP:20260423T015356
CREATED:20240610T145729Z
LAST-MODIFIED:20251205T162006Z
UID:73589-1718802000-1718805600@cri1149.fr
SUMMARY:A “long” journey through Fc receptor and mast cell signaling and function
DESCRIPTION:Attention : lien Zoom différent !!
URL:https://cri1149.fr/evenement/a-long-journey-through-fc-receptor-and-mast-cell-signaling-and-function/
LOCATION:Salle 241B + Zoom\, 16 rue henri huchard\, Paris\, 75018\, France
CATEGORIES:Les Mercredis du CRI (MCRI)
ATTACH;FMTTYPE=image/png:https://cri1149.fr/wp-content/uploads/2023/09/MCRI-transparent.png
ORGANIZER;CN="Le comit%C3%A9 d'organisation des s%C3%A9minaires du mercredi":MAILTO:seminairebichat@inserm.fr
END:VEVENT
BEGIN:VEVENT
DTSTART;TZID=Europe/Paris:20240626T130000
DTEND;TZID=Europe/Paris:20240626T140000
DTSTAMP:20260423T015356
CREATED:20240610T150028Z
LAST-MODIFIED:20251205T162005Z
UID:73591-1719406800-1719410400@cri1149.fr
SUMMARY:How to Dissociate Tissues to Get Quality Single Cell Sub-Populations + Expanding Single Cell Capabilities with Evercode Technology
DESCRIPTION:
URL:https://cri1149.fr/evenement/expanding-single-cell-capabilities-with-evercode-technology/
LOCATION:Salle 241B + Zoom\, 16 rue henri huchard\, Paris\, 75018\, France
CATEGORIES:Les Mercredis du CRI (MCRI)
ATTACH;FMTTYPE=image/png:https://cri1149.fr/wp-content/uploads/2023/09/MCRI-transparent.png
ORGANIZER;CN="Le comit%C3%A9 d'organisation des s%C3%A9minaires du mercredi":MAILTO:seminairebichat@inserm.fr
END:VEVENT
END:VCALENDAR