BEGIN:VCALENDAR
VERSION:2.0
PRODID:-//CRI - ECPv6.15.17.1//NONSGML v1.0//EN
CALSCALE:GREGORIAN
METHOD:PUBLISH
X-WR-CALNAME:CRI
X-ORIGINAL-URL:https://cri1149.fr
X-WR-CALDESC:Évènements pour CRI
REFRESH-INTERVAL;VALUE=DURATION:PT1H
X-Robots-Tag:noindex
X-PUBLISHED-TTL:PT1H
BEGIN:VTIMEZONE
TZID:Europe/Paris
BEGIN:DAYLIGHT
TZOFFSETFROM:+0100
TZOFFSETTO:+0200
TZNAME:CEST
DTSTART:20230326T010000
END:DAYLIGHT
BEGIN:STANDARD
TZOFFSETFROM:+0200
TZOFFSETTO:+0100
TZNAME:CET
DTSTART:20231029T010000
END:STANDARD
BEGIN:DAYLIGHT
TZOFFSETFROM:+0100
TZOFFSETTO:+0200
TZNAME:CEST
DTSTART:20240331T010000
END:DAYLIGHT
BEGIN:STANDARD
TZOFFSETFROM:+0200
TZOFFSETTO:+0100
TZNAME:CET
DTSTART:20241027T010000
END:STANDARD
BEGIN:DAYLIGHT
TZOFFSETFROM:+0100
TZOFFSETTO:+0200
TZNAME:CEST
DTSTART:20250330T010000
END:DAYLIGHT
BEGIN:STANDARD
TZOFFSETFROM:+0200
TZOFFSETTO:+0100
TZNAME:CET
DTSTART:20251026T010000
END:STANDARD
END:VTIMEZONE
BEGIN:VEVENT
DTSTART;TZID=Europe/Paris:20240306T130000
DTEND;TZID=Europe/Paris:20240306T140000
DTSTAMP:20260423T064508
CREATED:20240215T101204Z
LAST-MODIFIED:20251205T162015Z
UID:73077-1709730000-1709733600@cri1149.fr
SUMMARY:Revisiting the ping-pong game between myeloid and epithelial cells in lung infections
DESCRIPTION:
URL:https://cri1149.fr/evenement/revisiting-the-ping-pong-game-between-myeloid-and-epithelial-cells-in-lung-infections/
LOCATION:Salle 241B + Zoom\, 16 rue henri huchard\, Paris\, 75018\, France
CATEGORIES:Les Mercredis du CRI (MCRI)
ATTACH;FMTTYPE=image/png:https://cri1149.fr/wp-content/uploads/2023/09/MCRI-transparent.png
ORGANIZER;CN="Le comit%C3%A9 d'organisation des s%C3%A9minaires du mercredi":MAILTO:seminairebichat@inserm.fr
END:VEVENT
BEGIN:VEVENT
DTSTART;TZID=Europe/Paris:20240314T083000
DTEND;TZID=Europe/Paris:20240317T140000
DTSTAMP:20260423T064508
CREATED:20240205T120910Z
LAST-MODIFIED:20251205T162016Z
UID:73029-1710405000-1710684000@cri1149.fr
SUMMARY:JFHOD 2024
DESCRIPTION:Cette édition 2024 s’annonce fameuse. Comme toujours\, c’est l’occasion pour tous les professionnels concernés par les maladies et cancers de l’appareil digestif de se retrouver pour suivre les dernières actualités scientifiques de notre vaste spécialité et de mettre à jour leurs connaissances. En entrecroisant pendant quatre jours les sessions scientifiques avec celles de formation médicale continue\, la SNFGE et la FMC-HGE vous proposent un panorama complet de l’ensemble des domaines de l’hépatogastroentérologie et de l’oncologie digestive. Vous y retrouvez toutes les composantes de notre discipline\, à savoir la coloproctologie\, l’endoscopie\, l’hépatologie\, les maladies inflammatoires chroniques de l’intestin\, l’oncologie digestive\, la pancréatologie et les pathologies fonctionnelles. \nLa grande thématique de ces JFHOD 2024 est l’alimentation. Chacun d’entre vous sait à quel point l’alimentation est une préoccupation majeure pour les patients. Vous avez la possibilité de parfaire vos connaissances sur l’alimentation et de découvrir les avancées importantes obtenues dans ce domaine au cours de ces dernières années. Deux conférences plénières\, deux symposiums organisés avec la SFNCM\, Société Francophone Nutrition Clinique et Métabolisme\, ainsi qu’une plénière et deux ateliers de la FMC-HGE abordent notamment cette\nthématique. \nCette nouvelle édition des JFHOD a pour pays invité la Tunisie\, représentée par la STGE\, Société Tunisienne de Gastro-Entérologie. Nous partagerons avec nos collègues tunisiens nos expériences respectives dans la prise en charge de l’infection à Helicobacter pylori.
URL:https://cri1149.fr/evenement/jfhod-2024/
LOCATION:Palais des Congrès de Paris\, 2 Place de la Porte Maillot\, Paris\, 75017\, France
CATEGORIES:Evénements Scientifiques
ATTACH;FMTTYPE=image/png:https://cri1149.fr/wp-content/uploads/2024/02/JFHOD-2024-2.png
END:VEVENT
BEGIN:VEVENT
DTSTART;TZID=Europe/Paris:20240318T130000
DTEND;TZID=Europe/Paris:20240318T140000
DTSTAMP:20260423T064508
CREATED:20240318T141256Z
LAST-MODIFIED:20251205T162013Z
UID:73319-1710766800-1710770400@cri1149.fr
SUMMARY:Ciblage thérapeutique de DNM3OS dans les maladies fibroprolifératives
DESCRIPTION:
URL:https://cri1149.fr/evenement/ciblage-therapeutique-de-dnm3os-dans-les-maladies-fibroproliferatives/
LOCATION:Salle 241B + Zoom\, 16 rue henri huchard\, Paris\, 75018\, France
CATEGORIES:Les Mercredis du CRI (MCRI)
ORGANIZER;CN="Le comit%C3%A9 d'organisation des s%C3%A9minaires du mercredi":MAILTO:seminairebichat@inserm.fr
END:VEVENT
BEGIN:VEVENT
DTSTART;TZID=Europe/Paris:20240320T130000
DTEND;TZID=Europe/Paris:20240320T140000
DTSTAMP:20260423T064508
CREATED:20240306T104151Z
LAST-MODIFIED:20251205T162014Z
UID:73260-1710939600-1710943200@cri1149.fr
SUMMARY:Biologics in severe asthma
DESCRIPTION:https://u-paris.zoom.us/j/83218672080?pwd=ajBCUDE5bmpMZzRmRjl2VGhZQ2xIZz09\nID de réunion: 832 1867 2080\nCode secret: 258801
URL:https://cri1149.fr/evenement/biologics-in-severe-asthma/
LOCATION:Salle 241B + Zoom\, 16 rue henri huchard\, Paris\, 75018\, France
CATEGORIES:Les Mercredis du CRI (MCRI)
ATTACH;FMTTYPE=image/png:https://cri1149.fr/wp-content/uploads/2023/09/MCRI-transparent.png
ORGANIZER;CN="Le comit%C3%A9 d'organisation des s%C3%A9minaires du mercredi":MAILTO:seminairebichat@inserm.fr
END:VEVENT
BEGIN:VEVENT
DTSTART;TZID=Europe/Paris:20240327T130000
DTEND;TZID=Europe/Paris:20240327T140000
DTSTAMP:20260423T064508
CREATED:20240213T161946Z
LAST-MODIFIED:20251205T162015Z
UID:73065-1711544400-1711548000@cri1149.fr
SUMMARY:TMEM165\, a Golgi protein involved in a CDG-subtype (Congenital Disorders of Glycosylation)\, function in Golgi glycosylation and link with manganese
DESCRIPTION:https://u-paris.zoom.us/j/83218672080?pwd=ajBCUDE5bmpMZzRmRjl2VGhZQ2xIZz09\nID de réunion: 832 1867 2080\nCode secret: 258801
URL:https://cri1149.fr/evenement/tmem165-a-golgi-protein-involved-in-a-cdg-subtype-congenital-disorders-of-glycosylation-function-in-golgi-glycosylation-and-link-with-manganese/
LOCATION:Salle 241B + Zoom\, 16 rue henri huchard\, Paris\, 75018\, France
CATEGORIES:Les Mercredis du CRI (MCRI)
ATTACH;FMTTYPE=image/png:https://cri1149.fr/wp-content/uploads/2023/09/MCRI-transparent.png
ORGANIZER;CN="Le comit%C3%A9 d'organisation des s%C3%A9minaires du mercredi":MAILTO:seminairebichat@inserm.fr
END:VEVENT
END:VCALENDAR