BEGIN:VCALENDAR
VERSION:2.0
PRODID:-//CRI - ECPv6.15.17.1//NONSGML v1.0//EN
CALSCALE:GREGORIAN
METHOD:PUBLISH
X-ORIGINAL-URL:https://cri1149.fr
X-WR-CALDESC:Évènements pour CRI
REFRESH-INTERVAL;VALUE=DURATION:PT1H
X-Robots-Tag:noindex
X-PUBLISHED-TTL:PT1H
BEGIN:VTIMEZONE
TZID:Europe/Paris
BEGIN:DAYLIGHT
TZOFFSETFROM:+0100
TZOFFSETTO:+0200
TZNAME:CEST
DTSTART:20230326T010000
END:DAYLIGHT
BEGIN:STANDARD
TZOFFSETFROM:+0200
TZOFFSETTO:+0100
TZNAME:CET
DTSTART:20231029T010000
END:STANDARD
BEGIN:DAYLIGHT
TZOFFSETFROM:+0100
TZOFFSETTO:+0200
TZNAME:CEST
DTSTART:20240331T010000
END:DAYLIGHT
BEGIN:STANDARD
TZOFFSETFROM:+0200
TZOFFSETTO:+0100
TZNAME:CET
DTSTART:20241027T010000
END:STANDARD
BEGIN:DAYLIGHT
TZOFFSETFROM:+0100
TZOFFSETTO:+0200
TZNAME:CEST
DTSTART:20250330T010000
END:DAYLIGHT
BEGIN:STANDARD
TZOFFSETFROM:+0200
TZOFFSETTO:+0100
TZNAME:CET
DTSTART:20251026T010000
END:STANDARD
END:VTIMEZONE
BEGIN:VEVENT
DTSTART;TZID=Europe/Paris:20241009T130000
DTEND;TZID=Europe/Paris:20241009T140000
DTSTAMP:20260424T002409
CREATED:20240411T112555Z
LAST-MODIFIED:20251205T162009Z
UID:73435-1728478800-1728482400@cri1149.fr
SUMMARY:Présentation de la plateforme d'imagerie FRIM - Site Bichat
DESCRIPTION:
URL:https://cri1149.fr/evenement/presentation-de-la-plateforme-dimagerie-frim-site-bichat/
LOCATION:Salle 241B + Zoom\, 16 rue henri huchard\, Paris\, 75018\, France
CATEGORIES:Les Mercredis du CRI (MCRI)
ATTACH;FMTTYPE=image/png:https://cri1149.fr/wp-content/uploads/2023/09/MCRI-transparent.png
ORGANIZER;CN="Le comit%C3%A9 d'organisation des s%C3%A9minaires du mercredi":MAILTO:seminairebichat@inserm.fr
END:VEVENT
BEGIN:VEVENT
DTSTART;TZID=Europe/Paris:20241016T130000
DTEND;TZID=Europe/Paris:20241016T140000
DTSTAMP:20260424T002409
CREATED:20240812T122746Z
LAST-MODIFIED:20251205T162001Z
UID:73716-1729083600-1729087200@cri1149.fr
SUMMARY:Tumor-specific T cells in hematological malignancy: Illusion or Reality?
DESCRIPTION:
URL:https://cri1149.fr/evenement/tumor-specific-t-cells-in-hematological-malignancy-illusion-or-reality/
LOCATION:Salle 241B + Zoom\, 16 rue henri huchard\, Paris\, 75018\, France
CATEGORIES:Les Mercredis du CRI (MCRI)
ATTACH;FMTTYPE=image/png:https://cri1149.fr/wp-content/uploads/2023/09/MCRI-transparent.png
ORGANIZER;CN="Le comit%C3%A9 d'organisation des s%C3%A9minaires du mercredi":MAILTO:seminairebichat@inserm.fr
END:VEVENT
BEGIN:VEVENT
DTSTART;TZID=Europe/Paris:20241023T130000
DTEND;TZID=Europe/Paris:20241023T140000
DTSTAMP:20260424T002409
CREATED:20240812T122856Z
LAST-MODIFIED:20251205T162000Z
UID:73718-1729688400-1729692000@cri1149.fr
SUMMARY:1)Ankyrons: the future of target-binding reagents  2)RNAscope : Easy and robust spatial transcriptomic and Proteomic with single cell resolution
DESCRIPTION:
URL:https://cri1149.fr/evenement/rnascope-easy-and-robust-spatial-transcriptomic-and-proteomic-with-single-cell-resolution/
LOCATION:Salle 241B + Zoom\, 16 rue henri huchard\, Paris\, 75018\, France
CATEGORIES:Les Mercredis du CRI (MCRI)
ATTACH;FMTTYPE=image/png:https://cri1149.fr/wp-content/uploads/2023/09/MCRI-transparent.png
ORGANIZER;CN="Le comit%C3%A9 d'organisation des s%C3%A9minaires du mercredi":MAILTO:seminairebichat@inserm.fr
END:VEVENT
END:VCALENDAR