BEGIN:VCALENDAR
VERSION:2.0
PRODID:-//CRI - ECPv6.15.17.1//NONSGML v1.0//EN
CALSCALE:GREGORIAN
METHOD:PUBLISH
X-WR-CALNAME:CRI
X-ORIGINAL-URL:https://cri1149.fr
X-WR-CALDESC:Évènements pour CRI
REFRESH-INTERVAL;VALUE=DURATION:PT1H
X-Robots-Tag:noindex
X-PUBLISHED-TTL:PT1H
BEGIN:VTIMEZONE
TZID:Europe/Paris
BEGIN:DAYLIGHT
TZOFFSETFROM:+0100
TZOFFSETTO:+0200
TZNAME:CEST
DTSTART:20230326T010000
END:DAYLIGHT
BEGIN:STANDARD
TZOFFSETFROM:+0200
TZOFFSETTO:+0100
TZNAME:CET
DTSTART:20231029T010000
END:STANDARD
BEGIN:DAYLIGHT
TZOFFSETFROM:+0100
TZOFFSETTO:+0200
TZNAME:CEST
DTSTART:20240331T010000
END:DAYLIGHT
BEGIN:STANDARD
TZOFFSETFROM:+0200
TZOFFSETTO:+0100
TZNAME:CET
DTSTART:20241027T010000
END:STANDARD
BEGIN:DAYLIGHT
TZOFFSETFROM:+0100
TZOFFSETTO:+0200
TZNAME:CEST
DTSTART:20250330T010000
END:DAYLIGHT
BEGIN:STANDARD
TZOFFSETFROM:+0200
TZOFFSETTO:+0100
TZNAME:CET
DTSTART:20251026T010000
END:STANDARD
END:VTIMEZONE
BEGIN:VEVENT
DTSTART;TZID=Europe/Paris:20240911T130000
DTEND;TZID=Europe/Paris:20240911T140000
DTSTAMP:20260424T023312
CREATED:20240716T155939Z
LAST-MODIFIED:20251205T162002Z
UID:73697-1726059600-1726063200@cri1149.fr
SUMMARY:Impact of Autophagy on FcγR Signaling\, Trafficking\, and Function in Myeloid Cells
DESCRIPTION:
URL:https://cri1149.fr/evenement/impact-of-autophagy-on-fcgr-signaling-trafficking-and-function-in-myeloid-cells/
LOCATION:Salle 241B + Zoom\, 16 rue henri huchard\, Paris\, 75018\, France
CATEGORIES:Les Mercredis du CRI (MCRI)
ATTACH;FMTTYPE=image/png:https://cri1149.fr/wp-content/uploads/2023/09/MCRI-transparent.png
ORGANIZER;CN="Le comit%C3%A9 d'organisation des s%C3%A9minaires du mercredi":MAILTO:seminairebichat@inserm.fr
END:VEVENT
BEGIN:VEVENT
DTSTART;TZID=Europe/Paris:20240918T130000
DTEND;TZID=Europe/Paris:20240918T140000
DTSTAMP:20260424T023312
CREATED:20240716T160859Z
LAST-MODIFIED:20251205T162001Z
UID:73699-1726664400-1726668000@cri1149.fr
SUMMARY:1)Role of protease nexin 1 in hemostasis of patients with cirrhosis - 2)Deciphering liver and heart communication in MASLD after myocardial infarction
DESCRIPTION:Role of protease nexin 1 in hemostasis of patients with cirrhosis\nDeciphering liver and heart communication in MASLD after myocardial infarction
URL:https://cri1149.fr/evenement/to-be-announced-11/
LOCATION:Salle 241B + Zoom\, 16 rue henri huchard\, Paris\, 75018\, France
CATEGORIES:Les Mercredis du CRI (MCRI)
ATTACH;FMTTYPE=image/png:https://cri1149.fr/wp-content/uploads/2023/09/MCRI-transparent.png
ORGANIZER;CN="Le comit%C3%A9 d'organisation des s%C3%A9minaires du mercredi":MAILTO:seminairebichat@inserm.fr
END:VEVENT
BEGIN:VEVENT
DTSTART;TZID=Europe/Paris:20240925T130000
DTEND;TZID=Europe/Paris:20240925T140000
DTSTAMP:20260424T023312
CREATED:20240716T161142Z
LAST-MODIFIED:20251205T162001Z
UID:73701-1727269200-1727272800@cri1149.fr
SUMMARY:Prise en charge endoscopique de l’obésité
DESCRIPTION:
URL:https://cri1149.fr/evenement/lestomac-un-organe-qui-ne-sert-a-rien-vraiment/
LOCATION:Salle 241B + Zoom\, 16 rue henri huchard\, Paris\, 75018\, France
CATEGORIES:Les Mercredis du CRI (MCRI)
ATTACH;FMTTYPE=image/png:https://cri1149.fr/wp-content/uploads/2023/09/MCRI-transparent.png
ORGANIZER;CN="Le comit%C3%A9 d'organisation des s%C3%A9minaires du mercredi":MAILTO:seminairebichat@inserm.fr
END:VEVENT
END:VCALENDAR