BEGIN:VCALENDAR
VERSION:2.0
PRODID:-//CRI - ECPv6.15.17.1//NONSGML v1.0//EN
CALSCALE:GREGORIAN
METHOD:PUBLISH
X-ORIGINAL-URL:https://cri1149.fr
X-WR-CALDESC:Évènements pour CRI
REFRESH-INTERVAL;VALUE=DURATION:PT1H
X-Robots-Tag:noindex
X-PUBLISHED-TTL:PT1H
BEGIN:VTIMEZONE
TZID:Europe/Paris
BEGIN:DAYLIGHT
TZOFFSETFROM:+0100
TZOFFSETTO:+0200
TZNAME:CEST
DTSTART:20250330T010000
END:DAYLIGHT
BEGIN:STANDARD
TZOFFSETFROM:+0200
TZOFFSETTO:+0100
TZNAME:CET
DTSTART:20251026T010000
END:STANDARD
BEGIN:DAYLIGHT
TZOFFSETFROM:+0100
TZOFFSETTO:+0200
TZNAME:CEST
DTSTART:20260329T010000
END:DAYLIGHT
BEGIN:STANDARD
TZOFFSETFROM:+0200
TZOFFSETTO:+0100
TZNAME:CET
DTSTART:20261025T010000
END:STANDARD
BEGIN:DAYLIGHT
TZOFFSETFROM:+0100
TZOFFSETTO:+0200
TZNAME:CEST
DTSTART:20270328T010000
END:DAYLIGHT
BEGIN:STANDARD
TZOFFSETFROM:+0200
TZOFFSETTO:+0100
TZNAME:CET
DTSTART:20271031T010000
END:STANDARD
END:VTIMEZONE
BEGIN:VEVENT
DTSTART;TZID=Europe/Paris:20260123T080000
DTEND;TZID=Europe/Paris:20260123T090000
DTSTAMP:20260422T213821
CREATED:20251218T114939Z
LAST-MODIFIED:20260105T180549Z
UID:79326-1769155200-1769158800@cri1149.fr
SUMMARY:Maladies systémiques : Comprendre pour mieux traiter. Exemple de la PR et de ses atteintes pulmonaires
DESCRIPTION:Intervenants :Zelia Gouveia & Jean Agnetti\n\nAffiliation :CellAction et Agilent\n\nLangue :English (Anglais)\n\n\n\n📍 Lieu : Hôpital Bichat – Salle de staff\, 11ᵉ étage sud🕣 Horaire : 8h15 – 9h15🥐 Petit-déjeuner offert \n\n\n\n🎟️ 𝗘𝗡𝗧𝗥𝗘́𝗘 𝗟𝗜𝗕𝗥𝗘 🤩 Aucune inscription requise
URL:https://cri1149.fr/evenement/maladies-systemiques-comprendre-pour-mieux-traiter-exemple-de-la-pr-et-de-ses-atteintes-pulmonaires/
LOCATION:Hôpital Bichat\, 46 rue henri huchard\, Paris\, 75018
CATEGORIES:Evénements Scientifiques
ATTACH;FMTTYPE=image/jpeg:https://cri1149.fr/wp-content/uploads/2025/12/logo-petit-dej-infire.jpg
END:VEVENT
END:VCALENDAR