BEGIN:VCALENDAR
VERSION:2.0
PRODID:-//CRI - ECPv6.15.17.1//NONSGML v1.0//EN
CALSCALE:GREGORIAN
METHOD:PUBLISH
X-ORIGINAL-URL:https://cri1149.fr/en/
X-WR-CALDESC:Events for CRI
REFRESH-INTERVAL;VALUE=DURATION:PT1H
X-Robots-Tag:noindex
X-PUBLISHED-TTL:PT1H
BEGIN:VTIMEZONE
TZID:Europe/Paris
BEGIN:DAYLIGHT
TZOFFSETFROM:+0100
TZOFFSETTO:+0200
TZNAME:CEST
DTSTART:20240331T010000
END:DAYLIGHT
BEGIN:STANDARD
TZOFFSETFROM:+0200
TZOFFSETTO:+0100
TZNAME:CET
DTSTART:20241027T010000
END:STANDARD
BEGIN:DAYLIGHT
TZOFFSETFROM:+0100
TZOFFSETTO:+0200
TZNAME:CEST
DTSTART:20250330T010000
END:DAYLIGHT
BEGIN:STANDARD
TZOFFSETFROM:+0200
TZOFFSETTO:+0100
TZNAME:CET
DTSTART:20251026T010000
END:STANDARD
BEGIN:DAYLIGHT
TZOFFSETFROM:+0100
TZOFFSETTO:+0200
TZNAME:CEST
DTSTART:20260329T010000
END:DAYLIGHT
BEGIN:STANDARD
TZOFFSETFROM:+0200
TZOFFSETTO:+0100
TZNAME:CET
DTSTART:20261025T010000
END:STANDARD
BEGIN:DAYLIGHT
TZOFFSETFROM:+0100
TZOFFSETTO:+0200
TZNAME:CEST
DTSTART:20270328T010000
END:DAYLIGHT
BEGIN:STANDARD
TZOFFSETFROM:+0200
TZOFFSETTO:+0100
TZNAME:CET
DTSTART:20271031T010000
END:STANDARD
END:VTIMEZONE
BEGIN:VEVENT
DTSTART;TZID=Europe/Paris:20260422T130000
DTEND;TZID=Europe/Paris:20260422T140000
DTSTAMP:20260422T181601
CREATED:20260206T152736Z
LAST-MODIFIED:20260311T163913Z
UID:80672-1776862800-1776866400@cri1149.fr
SUMMARY:Microglia in the Developing Brain: from Colonization to Functions
DESCRIPTION:
URL:https://cri1149.fr/en/evenement/microglia-in-the-developing-brain-from-colonization-to-functions/
LOCATION:Room 241B + Zoom\, 75018\, France
CATEGORIES:CRI Wednesdays (MCRI)
ATTACH;FMTTYPE=image/png:https://cri1149.fr/wp-content/uploads/2026/02/MCRI-2026.png
ORGANIZER;CN="The organizing committee of the Wednesday seminars":MAILTO:seminairebichat@inserm.fr
END:VEVENT
BEGIN:VEVENT
DTSTART;TZID=Europe/Paris:20260417T081500
DTEND;TZID=Europe/Paris:20260417T091500
DTSTAMP:20260422T181601
CREATED:20260311T113800Z
LAST-MODIFIED:20260416T101215Z
UID:80811-1776413700-1776417300@cri1149.fr
SUMMARY:Biologie de l'auto-immunité: approches méthodologiques\, bonnes pratiques et perspectives
DESCRIPTION:
URL:https://cri1149.fr/en/evenement/biologie-de-lauto-immunite-approches-methodologiques-bonnes-pratiques-et-perspectives/
LOCATION:Hôpital Bichat\, 46 rue henri huchard\, Paris\, 75018
CATEGORIES:Scientific Events
ATTACH;FMTTYPE=image/png:https://cri1149.fr/wp-content/uploads/2026/03/Petit-dej-17avril.png
ORGANIZER;CN="FHU INFIRE":MAILTO:fhu-infire@aphp.fr
END:VEVENT
BEGIN:VEVENT
DTSTART;TZID=Europe/Paris:20260414T180000
DTEND;TZID=Europe/Paris:20260414T200000
DTSTAMP:20260422T181601
CREATED:20260413T104000Z
LAST-MODIFIED:20260413T144839Z
UID:81240-1776189600-1776196800@cri1149.fr
SUMMARY:Seminar XCELLigence ESight
DESCRIPTION:The seminar for the XCELLigence ESight by Agilent will take place on Tuesday 14th of April from 14.00 to 16.00 in p241. \n\n\n\nIt is a great pleasure to announce to you that there will be 2 talks during this seminar: \n\n\n\n14.00-14.30: Zelia Gouveia (CellAction\, Curie Institute): “GMP-compliant Manufacturing Process of CD19-28z1XX-SUV KO CAR-T cells” \n\n\n\n14.30-15.30: Jean Agnetti (Agilent): “Enhance Immunotherapy Research with xCelligence eSight ” \n\n\n\nThere will be time for questions after each talk and extra time after the two talks so that you can ask Jean Agnetti\, the engineer of Agilent\, your questions concerning the applications of your interest. \n\n\n\nLooking forward to seeing many of you there.
URL:https://cri1149.fr/en/evenement/seminar-xcelligence-esight/
LOCATION:Salle 241B\, 16 rue Henri Huchard\, Paris\, 75018\, France
CATEGORIES:Scientific Events
ATTACH;FMTTYPE=image/png:https://cri1149.fr/wp-content/uploads/2026/04/Seminar-XCELLigence-ESight.png
END:VEVENT
BEGIN:VEVENT
DTSTART;TZID=Europe/Paris:20260410T093000
DTEND;TZID=Europe/Paris:20260410T173000
DTSTAMP:20260422T181601
CREATED:20260219T084900Z
LAST-MODIFIED:20260302T161401Z
UID:80284-1775813400-1775842200@cri1149.fr
SUMMARY:INFIBREX & INFIRE Scientific Day
DESCRIPTION:This interdisciplinary day will revolve around a common thread:🔬 From cellular interactions to inter-organ dialogue\,with a focus on inflammation\, tissue remodeling and fibrosis.🎤 On the agenda:🔶 Presentation of the INFIRE University Hospital and the INFIBREX consortium🔶 Conferences to better understand:• Inflammation and renal fibrosis• inter-organ dialogue in chronic inflammatory diseases• the contribution of organoids to the study of paediatric cancer development• the role of complement in cellular interactions🔶 A round table dedicated to the latest technologies for deciphering interactions between cells and tissues🔶 Presentations highlighting the work of researchers and clinicians from selected abstractsEN- The day will be conducted exclusively in English.Two Junior Awards will be presented to the best oral presentations.Would you like to compete for the prize? Register now and submit your abstract later.👉 Registration is free but compulsory: https://lnkd.in/eB4cjrzM📅 April 10\, 2026 | 9:30 am – 5:30 pm📍 Amphithéâtre Luton – Hôpital Cochin\, ParisWhether you’re a doctor\, researcher\, student or young scientist\, join us for a day of exchanges\, science and interdisciplinary encounters. \n\nProgramme_Scientific day INFIBREX & INFIRE 10th April 2026Download
URL:https://cri1149.fr/en/evenement/infibrex-infire-scientific-day/
LOCATION:Amphithéâtre Luton – Hôpital Cochin\, Paris\, 24 rue du Faubourg Saint-Jacques\, Paris\, 75014\, France
CATEGORIES:Scientific Events
ATTACH;FMTTYPE=image/jpeg:https://cri1149.fr/wp-content/uploads/2026/02/Poster-FINAL-Scientific-day.jpg
END:VEVENT
BEGIN:VEVENT
DTSTART;TZID=Europe/Paris:20260408T130000
DTEND;TZID=Europe/Paris:20260408T140000
DTSTAMP:20260422T181601
CREATED:20260331T043000Z
LAST-MODIFIED:20260331T083429Z
UID:81053-1775653200-1775656800@cri1149.fr
SUMMARY:Primary cilia and inflammation
DESCRIPTION:
URL:https://cri1149.fr/en/evenement/primary-cilia-and-inflammation/
LOCATION:Room 241B + Zoom\, 75018\, France
CATEGORIES:CRI Wednesdays (MCRI)
ATTACH;FMTTYPE=image/png:https://cri1149.fr/wp-content/uploads/2026/02/MCRI-2026.png
ORGANIZER;CN="The organizing committee of the Wednesday seminars":MAILTO:seminairebichat@inserm.fr
END:VEVENT
BEGIN:VEVENT
DTSTART;TZID=Europe/Paris:20260326T080000
DTEND;TZID=Europe/Paris:20260327T180000
DTSTAMP:20260422T181601
CREATED:20260109T154522Z
LAST-MODIFIED:20260109T163829Z
UID:79718-1774512000-1774634400@cri1149.fr
SUMMARY:CECED 2026
DESCRIPTION:Organizing committee \n\nHervé Blottière\, Gwenola Le Dréan\, Emelyne Lécuyer\, Pierre de Coppet\, Jean-Pierre Segain. UMR1280\, PhAN\, Nantes University-INRAE  \n\nAnne Jarry\, Chloé Tierciolo\, UMR UMR 1302\, INCIT\, Nantes University- Inserm \n\nValentine Moullé\, UMR 1235\, TENS\, Nantes University-Inserm \n\nAxelle Renodon-Corniere\, UMR 6286\, US2B\, Nantes Université-CNRS \n\nRegistration form available in the dedicated tab.  link
URL:https://cri1149.fr/en/evenement/ceced-2026/
LOCATION:Centre des Salorges\, 16 quai Ernest Renaud\, Nantes\, 44100\, France
CATEGORIES:Scientific Events
ATTACH;FMTTYPE=image/jpeg:https://cri1149.fr/wp-content/uploads/2026/01/CECED-722x1024-1.jpg
END:VEVENT
BEGIN:VEVENT
DTSTART;TZID=Europe/Paris:20260325T130000
DTEND;TZID=Europe/Paris:20260325T140000
DTSTAMP:20260422T181601
CREATED:20260205T142115Z
LAST-MODIFIED:20260416T101929Z
UID:79741-1774443600-1774447200@cri1149.fr
SUMMARY:The Double Edge of Replication Stress and DNA Damage: Drivers of Metabolic-dysfunction associated liver diseasebut Vulnerabilities in HCC Treatment
DESCRIPTION:
URL:https://cri1149.fr/en/evenement/the-double-edge-of-replication-stress-and-dna-damage-drivers-of-metabolic-dysfunction-associated-liver-diseasebut-vulnerabilities-in-hcc-treatment/
LOCATION:Room 241B + Zoom\, 75018\, France
CATEGORIES:CRI Wednesdays (MCRI)
ATTACH;FMTTYPE=image/png:https://cri1149.fr/wp-content/uploads/2026/02/MCRI-2026.png
ORGANIZER;CN="The organizing committee of the Wednesday seminars":MAILTO:seminairebichat@inserm.fr
END:VEVENT
BEGIN:VEVENT
DTSTART;TZID=Europe/Paris:20260320T081500
DTEND;TZID=Europe/Paris:20260320T091500
DTSTAMP:20260422T181601
CREATED:20260219T144700Z
LAST-MODIFIED:20260311T134156Z
UID:80819-1773994500-1773998100@cri1149.fr
SUMMARY:Diabetes care in 2026: new developments and prospects
DESCRIPTION:
URL:https://cri1149.fr/en/evenement/diabetes-care-in-2026-new-developments-and-prospects/
LOCATION:Hôpital Bichat\, 46 rue henri huchard\, Paris\, 75018
CATEGORIES:Scientific Events
ATTACH;FMTTYPE=image/png:https://cri1149.fr/wp-content/uploads/2026/02/INFIRE-20-03-26.png
END:VEVENT
BEGIN:VEVENT
DTSTART;TZID=Europe/Paris:20260312T140000
DTEND;TZID=Europe/Paris:20260312T180000
DTSTAMP:20260422T181601
CREATED:20260311T064400Z
LAST-MODIFIED:20260416T102056Z
UID:80794-1773324000-1773338400@cri1149.fr
SUMMARY:Effets intestinaux de la metformine sur l'homéostasie glucidique et la sécrétion des incrétines après chirurgie bariatrique
DESCRIPTION:Mélanie Hirlemann  \n\n\n\nSous la direction de Maude LE GALL et Claire CARETTE
URL:https://cri1149.fr/en/evenement/effets-intestinaux-de-la-metformine-sur-lhomeostasie-glucidique-et-la-secretion-des-incretines-apres-chirurgie-bariatrique/
LOCATION:Conference room 251\, 75018\, France
CATEGORIES:Thesis defense
ATTACH;FMTTYPE=image/png:https://cri1149.fr/wp-content/uploads/2021/12/These_2026.png
END:VEVENT
BEGIN:VEVENT
DTSTART;TZID=Europe/Paris:20260226T160000
DTEND;TZID=Europe/Paris:20260226T200000
DTSTAMP:20260422T181601
CREATED:20260311T064900Z
LAST-MODIFIED:20260311T143331Z
UID:80831-1772121600-1772136000@cri1149.fr
SUMMARY:Role of LAIR‑1 in the regulation of macrophages in idiopathic pulmonary fibrosis
DESCRIPTION:Deepak Pokhreal \n\nHas been carried out under the supervision of Dr Georges Doumet HELOU.
URL:https://cri1149.fr/en/evenement/role-of-lair-1-in-the-regulation-of-macrophages-in-idiopathic-pulmonary-fibrosis/
LOCATION:Conference room 251\, 75018\, France
CATEGORIES:Thesis defense
ATTACH;FMTTYPE=image/png:https://cri1149.fr/wp-content/uploads/2021/12/These_2026.png
END:VEVENT
BEGIN:VEVENT
DTSTART;TZID=Europe/Paris:20260218T140000
DTEND;TZID=Europe/Paris:20260218T150000
DTSTAMP:20260422T181601
CREATED:20260205T152107Z
LAST-MODIFIED:20260216T214011Z
UID:80175-1771423200-1771426800@cri1149.fr
SUMMARY:A skin mast cell-basophil crosstalk promotes lupus-like photosensitivity/ Basophils control the B cell extra-follicular pathway in SLE
DESCRIPTION:
URL:https://cri1149.fr/en/evenement/a-skin-mast-cell-basophil-crosstalk-promotes-lupus-like-photosensitivity-basophils-control-the-b-cell-extra-follicular-pathway-in-sle/
LOCATION:Room 241B + Zoom\, 75018\, France
CATEGORIES:CRI Wednesdays (MCRI)
ATTACH;FMTTYPE=image/png:https://cri1149.fr/wp-content/uploads/2025/12/Logo-MCRI-V2.1.png
ORGANIZER;CN="The organizing committee of the Wednesday seminars":MAILTO:seminairebichat@inserm.fr
END:VEVENT
BEGIN:VEVENT
DTSTART;TZID=Europe/Paris:20260204T130000
DTEND;TZID=Europe/Paris:20260204T140000
DTSTAMP:20260422T181601
CREATED:20260205T151926Z
LAST-MODIFIED:20260206T152618Z
UID:79737-1770210000-1770213600@cri1149.fr
SUMMARY:Liver immune microenvironment and fibrogenesis during HBV/HDV co-infection using spatial transcriptomics
DESCRIPTION:
URL:https://cri1149.fr/en/evenement/liver-immune-microenvironment-and-fibrogenesis-during-hbv-hdv-co-infection-using-spatial-transcriptomics/
LOCATION:Room 241B + Zoom\, 75018\, France
CATEGORIES:CRI Wednesdays (MCRI)
ATTACH;FMTTYPE=image/png:https://cri1149.fr/wp-content/uploads/2025/03/Logo-events-Mercredi-du-CRI-2025-2-transparent.png
ORGANIZER;CN="The organizing committee of the Wednesday seminars":MAILTO:seminairebichat@inserm.fr
END:VEVENT
BEGIN:VEVENT
DTSTART;TZID=Europe/Paris:20260129T160000
DTEND;TZID=Europe/Paris:20260129T190000
DTSTAMP:20260422T181601
CREATED:20260311T065700Z
LAST-MODIFIED:20260311T143316Z
UID:80829-1769702400-1769713200@cri1149.fr
SUMMARY:Roles of microbiota and GLP-2 in adaptation processes in short-grain syndrome: kinetics of adaptations
DESCRIPTION:Alice Garrigues \n\nUnder the supervision of Johanne LE BEYEC – LE BIHAN and André BADO\, within the PIMS team (CRI\, Inserm).
URL:https://cri1149.fr/en/evenement/roles-of-microbiota-and-glp-2-in-adaptation-processes-in-short-grain-syndrome-kinetics-of-adaptations/
LOCATION:Conference room 251\, 75018\, France
CATEGORIES:Thesis defense
ATTACH;FMTTYPE=image/png:https://cri1149.fr/wp-content/uploads/2021/12/These_2026.png
END:VEVENT
BEGIN:VEVENT
DTSTART;TZID=Europe/Paris:20260123T080000
DTEND;TZID=Europe/Paris:20260123T090000
DTSTAMP:20260422T181601
CREATED:20251218T114939Z
LAST-MODIFIED:20260107T155258Z
UID:79652-1769155200-1769158800@cri1149.fr
SUMMARY:Systemic diseases: Understanding for better treatment. The example of RA and its pulmonary effects
DESCRIPTION:Intervenants :Christophe Leroy & Ursule Dumont\n\nAffiliation :ThermoFisher (Technical seminar)\n\nLangue :English (Anglais)\n\n📍 Location: Hôpital Bichat – Salle de staff\, 11ᵉ étage sud🕣 Schedule: 8:15am – 9:15am🥐 Complimentary breakfast \n\nNo registration required
URL:https://cri1149.fr/en/evenement/systemic-diseases-understanding-for-better-treatment-the-example-of-ra-and-its-pulmonary-effects/
LOCATION:Hôpital Bichat\, 46 rue henri huchard\, Paris\, 75018
CATEGORIES:Scientific Events
ATTACH;FMTTYPE=image/jpeg:https://cri1149.fr/wp-content/uploads/2025/12/logo-petit-dej-infire.jpg
END:VEVENT
BEGIN:VEVENT
DTSTART;TZID=Europe/Paris:20260121T130000
DTEND;TZID=Europe/Paris:20260121T140000
DTSTAMP:20260422T181601
CREATED:20251209T102508Z
LAST-MODIFIED:20260109T163448Z
UID:79650-1769000400-1769004000@cri1149.fr
SUMMARY:Inter-Kingdom and Inter-Organ communications during Adaptive Developmental Growth
DESCRIPTION:Intervenants :Christophe Leroy & Ursule Dumont\n\nAffiliation :ThermoFisher (Technical seminar)\n\nLangue :English (Anglais)
URL:https://cri1149.fr/en/evenement/inter-kingdom-and-inter-organ-communications-during-adaptive-developmental-growth/
LOCATION:Room 241B + Zoom\, 75018\, France
CATEGORIES:CRI Wednesdays (MCRI)
ATTACH;FMTTYPE=image/png:https://cri1149.fr/wp-content/uploads/2025/03/Logo-events-Mercredi-du-CRI-2025-2-transparent.png
ORGANIZER;CN="The organizing committee of the Wednesday seminars":MAILTO:seminairebichat@inserm.fr
END:VEVENT
BEGIN:VEVENT
DTSTART;TZID=Europe/Paris:20260107T130000
DTEND;TZID=Europe/Paris:20260107T140000
DTSTAMP:20260422T181602
CREATED:20260106T112925Z
LAST-MODIFIED:20260106T162740Z
UID:79606-1767790800-1767794400@cri1149.fr
SUMMARY:Predicting chemotherapy response in pancreatic cancer.
DESCRIPTION:We’re excited to kick off the first MCRI seminar of the year\, featuring Audrey Beaufils\, a PhD student from Nicolle’s team.  \n\n\n\nAudrey will present this Wednesday her PhD research on “Predicting Chemotherapy Response in Pancreatic Cancer”.As usual\, the seminar will begin at 1 p.m. in Room 241 and will be preceded by a coffee gathering.
URL:https://cri1149.fr/en/evenement/predicting-chemotherapy-response-in-pancreatic-cancer/
LOCATION:Room 241B + Zoom\, 75018\, France
ATTACH;FMTTYPE=image/png:https://cri1149.fr/wp-content/uploads/2025/03/Logo-events-Mercredi-du-CRI-2025-2-transparent.png
ORGANIZER;CN="The organizing committee of the Wednesday seminars":MAILTO:seminairebichat@inserm.fr
END:VEVENT
BEGIN:VEVENT
DTSTART;TZID=Europe/Paris:20250625T130000
DTEND;TZID=Europe/Paris:20250625T140000
DTSTAMP:20260422T181602
CREATED:20250516T153222Z
LAST-MODIFIED:20251205T161937Z
UID:74412-1750856400-1750860000@cri1149.fr
SUMMARY:To be announced
DESCRIPTION:
URL:https://cri1149.fr/en/evenement/to-be-announced-16/
LOCATION:Room 241B + Zoom\, 75018\, France
CATEGORIES:CRI Wednesdays (MCRI)
ATTACH;FMTTYPE=image/png:https://cri1149.fr/wp-content/uploads/2025/03/Logo-events-Mercredi-du-CRI-2025-2-transparent.png
ORGANIZER;CN="The organizing committee of the Wednesday seminars":MAILTO:seminairebichat@inserm.fr
END:VEVENT
BEGIN:VEVENT
DTSTART;TZID=Europe/Paris:20250611T130000
DTEND;TZID=Europe/Paris:20250611T140000
DTSTAMP:20260422T181602
CREATED:20250516T152907Z
LAST-MODIFIED:20251205T161938Z
UID:74410-1749646800-1749650400@cri1149.fr
SUMMARY:A new transcription factor regulating neuroinflammation
DESCRIPTION:
URL:https://cri1149.fr/en/evenement/a-new-transcription-factor-regulating-neuroinflammation/
LOCATION:Room 241B + Zoom\, 75018\, France
CATEGORIES:CRI Wednesdays (MCRI)
ATTACH;FMTTYPE=image/png:https://cri1149.fr/wp-content/uploads/2025/03/Logo-events-Mercredi-du-CRI-2025-2-transparent.png
ORGANIZER;CN="The organizing committee of the Wednesday seminars":MAILTO:seminairebichat@inserm.fr
END:VEVENT
BEGIN:VEVENT
DTSTART;TZID=Europe/Paris:20250528T130000
DTEND;TZID=Europe/Paris:20250528T140000
DTSTAMP:20260422T181602
CREATED:20250416T090630Z
LAST-MODIFIED:20251205T161938Z
UID:78389-1748437200-1748440800@cri1149.fr
SUMMARY:NETs removal by plasma filtration in human disease
DESCRIPTION:
URL:https://cri1149.fr/en/evenement/nets-removal-by-plasma-filtration-in-human-disease/
LOCATION:Room 241B + Zoom\, 75018\, France
CATEGORIES:CRI Wednesdays (MCRI)
ATTACH;FMTTYPE=image/png:https://cri1149.fr/wp-content/uploads/2025/03/Logo-events-Mercredi-du-CRI-2025-2-transparent.png
ORGANIZER;CN="The organizing committee of the Wednesday seminars":MAILTO:seminairebichat@inserm.fr
END:VEVENT
BEGIN:VEVENT
DTSTART;TZID=Europe/Paris:20250519T080000
DTEND;TZID=Europe/Paris:20250520T180000
DTSTAMP:20260422T181602
CREATED:20250312T143213Z
LAST-MODIFIED:20251205T161940Z
UID:74281-1747641600-1747764000@cri1149.fr
SUMMARY:French Club of NeuroImmunology symposium
DESCRIPTION:We are thrilled to announce that the next edition of the International CFNI Symposium on Neuroimmunology will be organized in Toulouse on May 19-20\, 2025. \nRegistration and abstract submission are open until 16/03/2025 (space is limited). \nPlease have a look at the speaker line-up and program here: https://cfnitlse2025.sciencesconf.org/?lang=en \nWe look forward to your registration !
URL:https://cri1149.fr/en/evenement/french-club-of-neuroimmunology-symposium/
LOCATION:Toulouse
ATTACH;FMTTYPE=image/png:https://cri1149.fr/wp-content/uploads/2025/03/CFNI_Flyer_SYMPOSIUM.png
END:VEVENT
BEGIN:VEVENT
DTSTART;TZID=Europe/Paris:20250515T080000
DTEND;TZID=Europe/Paris:20250517T180000
DTSTAMP:20260422T181602
CREATED:20250312T142656Z
LAST-MODIFIED:20251205T161941Z
UID:74278-1747296000-1747504800@cri1149.fr
SUMMARY:The 8th Venusberg Meeting on Neuroinflammation
DESCRIPTION:About the Conference\nIn the last decade\, Prof Michael Heneka has founded a conference series at his former workplace at the University Bonn\, called Venusberg Meeting\, which has established itself as one of the major international events on Neuroinflammation welcoming regularly over 350 international experts. With taking on the directorship of the Luxembourg Centre for Systems Biomedicine (LCSB) at the University of Luxembourg (UniLu) in 2022\, this renowned conference series moved to Luxembourg with a successful edition in 2023. \nThe 8th edition of this international meeting on Neuroinflammation will  focus on the theme “Cerebral immune activation at the crossroads of healthy aging\, senescence and neurodegeneration” encompassing basic\, clinical\, methodological and emerging perspectives and including internationally renowned scientists with expertise across a wide range of domains\, as main speakers. Discover the programme. \nThe conference offers new grounds for scientific exchange\, joint strategies and collaborative actions within the Neuroinflammation community on an international level. \nThe event will take place on Campus Belval. \nRegistrations are open!\nRegistration period: 9 October – 30 April 2025
URL:https://cri1149.fr/en/evenement/the-8th-venusberg-meeting-on-neuroinflammation/
CATEGORIES:Scientific Events
ATTACH;FMTTYPE=image/png:https://cri1149.fr/wp-content/uploads/2025/03/8th-Venusberg-Meeting-on-Neuroinflammation.png
END:VEVENT
BEGIN:VEVENT
DTSTART;TZID=Europe/Paris:20250514T130000
DTEND;TZID=Europe/Paris:20250514T140000
DTSTAMP:20260422T181602
CREATED:20250416T090506Z
LAST-MODIFIED:20251205T161939Z
UID:74374-1747227600-1747231200@cri1149.fr
SUMMARY:Control of hepatocyte identity in liver diseases
DESCRIPTION:
URL:https://cri1149.fr/en/evenement/to-be-announced-15/
LOCATION:Room 241B + Zoom\, 75018\, France
CATEGORIES:CRI Wednesdays (MCRI)
ATTACH;FMTTYPE=image/png:https://cri1149.fr/wp-content/uploads/2025/03/Logo-events-Mercredi-du-CRI-2025-2-transparent.png
ORGANIZER;CN="The organizing committee of the Wednesday seminars":MAILTO:seminairebichat@inserm.fr
END:VEVENT
BEGIN:VEVENT
DTSTART;TZID=Europe/Paris:20250507T130000
DTEND;TZID=Europe/Paris:20250510T140000
DTSTAMP:20260422T181602
CREATED:20250312T141404Z
LAST-MODIFIED:20251205T161941Z
UID:74275-1746622800-1746885600@cri1149.fr
SUMMARY:EASL Congress 2025
DESCRIPTION:The EASL Congress 2025 will bring together over 8\,000 international delegates at the RAI Amsterdam\, making it a unique platform for scientific exchange\, collaboration\, and learning. \nWith more than 2\,500 abstracts and a comprehensive scientific programme covering all tracks in hepatology\, the Congress offers invaluable insights into the latest advancements in the field through a varied range of interactive\, hands-on sessions and lectures delivered by world-class experts.
URL:https://cri1149.fr/en/evenement/easl-congress-2025/
CATEGORIES:Scientific Events
ATTACH;FMTTYPE=image/png:https://cri1149.fr/wp-content/uploads/2025/03/EASL-2025.png
END:VEVENT
BEGIN:VEVENT
DTSTART;TZID=Europe/Paris:20250507T130000
DTEND;TZID=Europe/Paris:20250507T140000
DTSTAMP:20260422T181602
CREATED:20250307T161646Z
LAST-MODIFIED:20251205T161941Z
UID:74263-1746622800-1746626400@cri1149.fr
SUMMARY:Echographie super-résolue
DESCRIPTION:
URL:https://cri1149.fr/en/evenement/echographie-super-resolue/
LOCATION:Room 241B + Zoom\, 75018\, France
CATEGORIES:CRI Wednesdays (MCRI)
ATTACH;FMTTYPE=image/png:https://cri1149.fr/wp-content/uploads/2025/03/Logo-events-Mercredi-du-CRI-2025-2-transparent.png
ORGANIZER;CN="The organizing committee of the Wednesday seminars":MAILTO:seminairebichat@inserm.fr
END:VEVENT
BEGIN:VEVENT
DTSTART;TZID=Europe/Paris:20250506T093000
DTEND;TZID=Europe/Paris:20250506T103000
DTSTAMP:20260422T181602
CREATED:20250312T155049Z
LAST-MODIFIED:20251205T161940Z
UID:74297-1746523800-1746527400@cri1149.fr
SUMMARY:Les comités et représentants du personnel (au CRI et au-delà)
DESCRIPTION:
URL:https://cri1149.fr/en/evenement/les-comites-et-representants-du-personnel-au-cri-et-au-dela/
LOCATION:Salle 528 – Bichat\, 16 rue henri huchard\, Paris\, 75018\, France
CATEGORIES:The life of the CRI
ATTACH;FMTTYPE=image/png:https://cri1149.fr/wp-content/uploads/2024/04/Le-cafe-des-ITA-1.png
END:VEVENT
BEGIN:VEVENT
DTSTART;TZID=Europe/Paris:20250423T130000
DTEND;TZID=Europe/Paris:20250423T140000
DTSTAMP:20260422T181602
CREATED:20250307T161533Z
LAST-MODIFIED:20251205T161941Z
UID:74260-1745413200-1745416800@cri1149.fr
SUMMARY:Technical seminar: 1) Uncover cellular heterogeneity with multi-omics approaches for single-cell analysis.  2) Harnessing the Power of Multiplexing: Advanced Biomarker Quantitation with Luminex Immunoassays
DESCRIPTION:
URL:https://cri1149.fr/en/evenement/single-cell-rna-seq-et-multi-omics/
LOCATION:Room 241B + Zoom\, 75018\, France
CATEGORIES:CRI Wednesdays (MCRI)
ATTACH;FMTTYPE=image/png:https://cri1149.fr/wp-content/uploads/2025/03/Logo-events-Mercredi-du-CRI-2025-2-transparent.png
ORGANIZER;CN="The organizing committee of the Wednesday seminars":MAILTO:seminairebichat@inserm.fr
END:VEVENT
BEGIN:VEVENT
DTSTART;TZID=Europe/Paris:20250415T080000
DTEND;TZID=Europe/Paris:20250415T180000
DTSTAMP:20260422T181602
CREATED:20250306T114334Z
LAST-MODIFIED:20251205T161941Z
UID:78387-1744704000-1744740000@cri1149.fr
SUMMARY:Allergy Research Today (ART)
DESCRIPTION:ART is back in face-to-face! Save the date! \nIt is our great pleasure to invite you to a one-day meeting\, entitled Allergy Research Today (ART) 2025\, to be held on Tuesday\, April 15\, 2025 to the Palais des Congrès in Paris\, France. \nThis English-speaking meeting is organized every year by the French Society of Allergology (Société Française d’Allergologie) and the French Association for Continued Medical Education (ANAFORCAL) within the frame of their joint annual meeting\, the Francophone Congress of Allergology (Congrès Francophone d’Allergologie). It gathers outstanding young and senior scientists who are working in the field of Immunology and Allergology. \nThe ART 2025 program and the registration form are available on the website: click here! \nFor further information you can send an e-mail to cfa2025@margauxorange.com \nThe ART 2025 Scientific Committee: Gael Menasche\, Isabella Annesi-Maesano\, Gregory Bouchaud\, Laurent Reber on behalf of the French Society of Allergology (SFA) and the French Association for Continued Medical Education (ANAFORCAL)
URL:https://cri1149.fr/en/evenement/allergy-research-today-art/
LOCATION:Palais des Congrès de Paris\, 2 Place de la Porte Maillot\, Paris\, 75017\, France
CATEGORIES:Scientific Events
ATTACH;FMTTYPE=image/png:https://cri1149.fr/wp-content/uploads/2025/03/ART-OnLine.png
END:VEVENT
BEGIN:VEVENT
DTSTART;TZID=Europe/Paris:20250409T130000
DTEND;TZID=Europe/Paris:20250409T140000
DTSTAMP:20260422T181602
CREATED:20250319T082806Z
LAST-MODIFIED:20251205T161939Z
UID:74310-1744203600-1744207200@cri1149.fr
SUMMARY:Clinical impact of pancreas adenocarcinoma heterogeneity
DESCRIPTION:
URL:https://cri1149.fr/en/evenement/clinical-impact-of-pancreas-adenocarcinoma-heterogeneity/
LOCATION:Room 241B + Zoom\, 75018\, France
CATEGORIES:CRI Wednesdays (MCRI)
ATTACH;FMTTYPE=image/png:https://cri1149.fr/wp-content/uploads/2025/03/Logo-events-Mercredi-du-CRI-2025-2-transparent.png
ORGANIZER;CN="The organizing committee of the Wednesday seminars":MAILTO:seminairebichat@inserm.fr
END:VEVENT
BEGIN:VEVENT
DTSTART;TZID=Europe/Paris:20250401T093000
DTEND;TZID=Europe/Paris:20250401T103000
DTSTAMP:20260422T181602
CREATED:20250312T154859Z
LAST-MODIFIED:20260311T143342Z
UID:74294-1743499800-1743503400@cri1149.fr
SUMMARY:Plateforme IMA’CRI
DESCRIPTION:
URL:https://cri1149.fr/en/evenement/plateforme-imacri/
LOCATION:Salle 528
CATEGORIES:The life of the CRI
ATTACH;FMTTYPE=image/png:https://cri1149.fr/wp-content/uploads/2024/04/Le-cafe-des-ITA-1.png
END:VEVENT
BEGIN:VEVENT
DTSTART;TZID=Europe/Paris:20250321T000000
DTEND;TZID=Europe/Paris:20250321T235959
DTSTAMP:20260422T181602
CREATED:20250225T101226Z
LAST-MODIFIED:20251205T161942Z
UID:78385-1742515200-1742601599@cri1149.fr
SUMMARY:CECED 2025
DESCRIPTION:42 ème CECED PARIS 20-21 Mars 2025
URL:https://cri1149.fr/en/evenement/ceced-2025/
LOCATION:Palais des Congrès de Paris\, 2 Place de la Porte Maillot\, Paris\, 75017\, France
CATEGORIES:Scientific Events
ATTACH;FMTTYPE=image/png:https://cri1149.fr/wp-content/uploads/2025/02/CECED-2025-2.png
END:VEVENT
END:VCALENDAR