BEGIN:VCALENDAR
VERSION:2.0
PRODID:-//CRI - ECPv6.15.17.1//NONSGML v1.0//EN
CALSCALE:GREGORIAN
METHOD:PUBLISH
X-ORIGINAL-URL:https://cri1149.fr/en/
X-WR-CALDESC:Events for CRI
REFRESH-INTERVAL;VALUE=DURATION:PT1H
X-Robots-Tag:noindex
X-PUBLISHED-TTL:PT1H
BEGIN:VTIMEZONE
TZID:Europe/Paris
BEGIN:DAYLIGHT
TZOFFSETFROM:+0100
TZOFFSETTO:+0200
TZNAME:CEST
DTSTART:20230326T010000
END:DAYLIGHT
BEGIN:STANDARD
TZOFFSETFROM:+0200
TZOFFSETTO:+0100
TZNAME:CET
DTSTART:20231029T010000
END:STANDARD
BEGIN:DAYLIGHT
TZOFFSETFROM:+0100
TZOFFSETTO:+0200
TZNAME:CEST
DTSTART:20240331T010000
END:DAYLIGHT
BEGIN:STANDARD
TZOFFSETFROM:+0200
TZOFFSETTO:+0100
TZNAME:CET
DTSTART:20241027T010000
END:STANDARD
BEGIN:DAYLIGHT
TZOFFSETFROM:+0100
TZOFFSETTO:+0200
TZNAME:CEST
DTSTART:20250330T010000
END:DAYLIGHT
BEGIN:STANDARD
TZOFFSETFROM:+0200
TZOFFSETTO:+0100
TZNAME:CET
DTSTART:20251026T010000
END:STANDARD
BEGIN:DAYLIGHT
TZOFFSETFROM:+0100
TZOFFSETTO:+0200
TZNAME:CEST
DTSTART:20260329T010000
END:DAYLIGHT
BEGIN:STANDARD
TZOFFSETFROM:+0200
TZOFFSETTO:+0100
TZNAME:CET
DTSTART:20261025T010000
END:STANDARD
END:VTIMEZONE
BEGIN:VEVENT
DTSTART;TZID=Europe/Paris:20250506T093000
DTEND;TZID=Europe/Paris:20250506T103000
DTSTAMP:20260421T164714
CREATED:20250312T155049Z
LAST-MODIFIED:20251205T161940Z
UID:74297-1746523800-1746527400@cri1149.fr
SUMMARY:Les comités et représentants du personnel (au CRI et au-delà)
DESCRIPTION:
URL:https://cri1149.fr/en/evenement/les-comites-et-representants-du-personnel-au-cri-et-au-dela/
LOCATION:Salle 528 – Bichat\, 16 rue henri huchard\, Paris\, 75018\, France
CATEGORIES:The life of the CRI
ATTACH;FMTTYPE=image/png:https://cri1149.fr/wp-content/uploads/2024/04/Le-cafe-des-ITA-1.png
END:VEVENT
BEGIN:VEVENT
DTSTART;TZID=Europe/Paris:20250401T093000
DTEND;TZID=Europe/Paris:20250401T103000
DTSTAMP:20260421T164714
CREATED:20250312T154859Z
LAST-MODIFIED:20260311T143342Z
UID:74294-1743499800-1743503400@cri1149.fr
SUMMARY:Plateforme IMA’CRI
DESCRIPTION:
URL:https://cri1149.fr/en/evenement/plateforme-imacri/
LOCATION:Salle 528
CATEGORIES:The life of the CRI
ATTACH;FMTTYPE=image/png:https://cri1149.fr/wp-content/uploads/2024/04/Le-cafe-des-ITA-1.png
END:VEVENT
BEGIN:VEVENT
DTSTART;TZID=Europe/Paris:20240903T093000
DTEND;TZID=Europe/Paris:20240903T103000
DTSTAMP:20260421T164714
CREATED:20240411T134736Z
LAST-MODIFIED:20251205T162009Z
UID:73449-1725355800-1725359400@cri1149.fr
SUMMARY:Cafe des ITA
DESCRIPTION:Le café des ITA est un moment de partage où les ITA\, ITRF\, BIATSS du CRI peuvent se retrouver pour assister à une présentation d’un service ou une équipe du CRI\, afin de partager les compétences et les savoirs. Suivi d’une discussion entre personnels sur différents sujets scientifiques\, de gestion ou d’actualités du centre. \nDes convivialités sont présentes lors de ces rassemblements (café et gâteaux). \nCe mardi 3 septembre\, l’équipe Rautou nous présentera leur activité.
URL:https://cri1149.fr/en/evenement/cafe-des-ita-2/
LOCATION:Salle 528 – Bichat\, 16 rue henri huchard\, Paris\, 75018\, France
CATEGORIES:The life of the CRI
ATTACH;FMTTYPE=image/png:https://cri1149.fr/wp-content/uploads/2024/04/Le-cafe-des-ITA-1.png
END:VEVENT
BEGIN:VEVENT
DTSTART;TZID=Europe/Paris:20240604T093000
DTEND;TZID=Europe/Paris:20240604T103000
DTSTAMP:20260421T164714
CREATED:20240411T134257Z
LAST-MODIFIED:20251205T162009Z
UID:73446-1717493400-1717497000@cri1149.fr
SUMMARY:Café des ITA (à Beaujon)
DESCRIPTION:Le café des ITA est un moment de partage où les ITA\, ITRF\, BIATSS du CRI peuvent se retrouver pour assister à une présentation d’un service ou une équipe du CRI\, afin de partager les compétences et les savoirs. Suivi d’une discussion entre personnels sur différents sujets scientifiques\, de gestion ou d’actualités du centre. \nDes convivialités sont présentes lors de ces rassemblements (café et gâteaux). \nCe mardi 4 juin\, l’équipe de Beaujon nous présentera leur activité. \n 
URL:https://cri1149.fr/en/evenement/cafe-des-ita-a-beaujon/
LOCATION:ABRAMI Amphitheater (Beaujon)\, 92110
CATEGORIES:The life of the CRI
ATTACH;FMTTYPE=image/png:https://cri1149.fr/wp-content/uploads/2024/04/Le-cafe-des-ITA-1.png
END:VEVENT
BEGIN:VEVENT
DTSTART;TZID=Europe/Paris:20240523T093000
DTEND;TZID=Europe/Paris:20240523T103000
DTSTAMP:20260421T164714
CREATED:20240411T114044Z
LAST-MODIFIED:20251205T162009Z
UID:73437-1716456600-1716460200@cri1149.fr
SUMMARY:Café des ITA
DESCRIPTION:Le café des ITA est un moment de partage où les ITA et ITRF du CRI peuvent se retrouver pour assister à une présentation d’un service ou une équipe du CRI\, afin de partager les compétences et les savoirs. Suivi d’une discussion entre personnels sur différents sujets scientifiques\, de gestion ou d’actualités du centre. \nDes convivialités sont présentes lors de ces rassemblements (café et gâteaux). \nPour ce jeudi 23 mai\, l’équipe Administrative nous présentera leur activité et conseil pour faciliter les démarches administratives.
URL:https://cri1149.fr/en/evenement/cafe-des-ita/
LOCATION:Salle 528 – Bichat\, 16 rue henri huchard\, Paris\, 75018\, France
CATEGORIES:The life of the CRI
ATTACH;FMTTYPE=image/png:https://cri1149.fr/wp-content/uploads/2024/04/Le-cafe-des-ITA-1.png
END:VEVENT
END:VCALENDAR